BEGIN:VCALENDAR
VERSION:2.0
PRODID:-//wp-events-plugin.com//7.2.3.1//EN
BEGIN:VEVENT
UID:844@frauenbildungszentrum.de
DTSTART;TZID=Europe/Berlin:20251212T190000
DTEND;TZID=Europe/Berlin:20251212T210000
DTSTAMP:20250706T163150Z
URL:https://www.frauenbildungszentrum.de/events/erzaehlabend-zauberhafter-
 advent
SUMMARY:ERZÄHLABEND „ZAUBERHAFTER ADVENT“
DESCRIPTION:In Kooperation mit der bekannten Märchenerzählerin Michaele S
 cherenberg\nMärchen\, Geschichten und Klang zu Advent und Weihnachtszeit.
  Ein entspannender schöner Abend in Gemeinschaft. Natürlich wie immer mi
 t einem kleinen Imbiss und Getränken.\n\nMichaele Scherenberg – bekannt
  durch ihre Auftritte und Filme im Hessischen Rundfunk – ist seit langem
  Märchenerzählerin. Sie erzählt völlig frei auf faszinierende Weise.\n
 Michaele Scherenberg - bekannt durch ihre Auftritte und Filme im Hessische
 n Rundfunk - ist seit langem Märchenerzählerin. Sie erzählt völlig fre
 i auf faszinierende Weise.\nFreitag\, 12. Dezember 2025\n19.00 – 21.00 U
 hr\n\n&nbsp\;\n252-12-103
CATEGORIES:Dezember,Veranstaltungen
LOCATION:Omi Mümchen/Lebenskunst\, Rathausstr. 8\, Bad Homburg\, Deutschla
 nd
X-APPLE-STRUCTURED-LOCATION;VALUE=URI;X-ADDRESS=Rathausstr. 8\, Bad Homburg
 \, Deutschland;X-APPLE-RADIUS=100;X-TITLE=Omi Mümchen/Lebenskunst:geo:0,0
END:VEVENT
BEGIN:VTIMEZONE
TZID:Europe/Berlin
X-LIC-LOCATION:Europe/Berlin
BEGIN:STANDARD
DTSTART:20251026T020000
TZOFFSETFROM:+0200
TZOFFSETTO:+0100
TZNAME:CET
END:STANDARD
END:VTIMEZONE
END:VCALENDAR