BEGIN:VCALENDAR
VERSION:2.0
PRODID:-//wp-events-plugin.com//7.2.3.1//EN
BEGIN:VEVENT
UID:58@frauenbildungszentrum.de
DTSTART;TZID=Europe/Berlin:20230510T180000
DTEND;TZID=Europe/Berlin:20230510T200000
DTSTAMP:20230110T200240Z
URL:https://www.frauenbildungszentrum.de/events/erstellen-sie-ihr-eigenes-
 naturparfuem
SUMMARY:Erstellen Sie Ihr eigenes Naturparfüm
DESCRIPTION:Lösungsorientiert zu Ihren aktuellen Herausforderungen und ang
 epasst auf Ihre individuelle Körperchemie\, wählen wir einen passenden D
 uft für Sie aus und kreieren ein eigens für Sie erstelltes Naturparfüm.
 \n\nIch helfe Ihnen bei der Auswahl und dem Anmischen\, aber natürlich en
 tscheiden Sie und Ihre Nase. Tragen Sie diesen Duft täglich auf und über
 winden dadurch aktuelle Blockaden und Hindernisse\, die Sie mental oder em
 otional einschränken. Entwickeln Sie zudem eine besondere Ausstrahlung un
 d genießen einfach diese sinnliche Erfahrung mit Ihrem individuellen Natu
 rparfüm.\n\nBitte ein kleines Handtuch mitbringen.\n\nLeitung: Vanessa Co
 rrado\n\nMittwoch\, 10. Mai 2023\n18.00 – 20.00 Uhr\n\n(Es entstehen noc
 h Materialkosten in Höhe von € 19\,--\, die direkt an die Referentin zu
  zahlen sind. )\n\n231-07-018
CATEGORIES:Gesundheit &amp; Selbsterfahrung,Kreatives,Mai
LOCATION:Frauenbildungszentrum\, Schöne Aussicht 24 \, Bad Homburg\, Hesse
 n\, 61348  \, Deutschland
X-APPLE-STRUCTURED-LOCATION;VALUE=URI;X-ADDRESS=Schöne Aussicht 24 \, Bad 
 Homburg\, Hessen\, 61348  \, Deutschland;X-APPLE-RADIUS=100;X-TITLE=Frauen
 bildungszentrum:geo:0,0
END:VEVENT
BEGIN:VTIMEZONE
TZID:Europe/Berlin
X-LIC-LOCATION:Europe/Berlin
BEGIN:DAYLIGHT
DTSTART:20230326T030000
TZOFFSETFROM:+0100
TZOFFSETTO:+0200
TZNAME:CEST
END:DAYLIGHT
END:VTIMEZONE
END:VCALENDAR