BEGIN:VCALENDAR
VERSION:2.0
PRODID:-//wp-events-plugin.com//7.2.3.1//EN
BEGIN:VEVENT
UID:637@frauenbildungszentrum.de
DTSTART;TZID=Europe/Berlin:20250523T170000
DTEND;TZID=Europe/Berlin:20250524T200000
DTSTAMP:20250520T120105Z
URL:https://www.frauenbildungszentrum.de/events/erfolgreich-argumentieren
SUMMARY:Erfolgreich argumentieren
DESCRIPTION:Überzeugungsfähigkeit und Durchsetzungsvermögen verbessern\n
 Meinungsunterschiede sind ein wichtiger Teil unserer Kommunikation\, denn 
 durch sie kann sich etwas verändern und bewegen. Wichtig ist\, für die e
 igene Sache klar einzutreten und sich zugleich mit anderen Standpunkten au
 seinanderzusetzen.\nDies ist nicht immer leicht\, ob es um Gespräche mit 
 Kolleginnen und Kollegen geht\, oder mit Vorgesetzten. Auseinandersetzung 
 bringt weiter als Scheinharmonie.\nDas Seminar vermittelt die Grundlagen d
 er Argumentation. Darauf aufbauend wird für unterschiedliche Situationen 
 Sicherheit und Überzeugungsfähigkeit eingeübt. Beispiele der Teilnehmer
 innen werden im Kurs bearbeitet\nKursinhalte sind u.a.:\n\n 	Wirkung von K
 örpersprache und Stimme\n 	Zuhören als Chance – Fragen als Stärke\n 	
 Überzeugungsfähigkeit verbessern\n 	Gegenpositionen austragen und aushal
 ten lernen\n 	Stellenwert der Gefühle reflektieren\n\nLeitung: Heike Krin
 es\n \nFreitag\, 23. Mai 2025\n17.00 – 20.00Uhr\nSamstag\, 24. Mai 2025
 \n09.00 – 16.00 Uhr\nMindestteilnehmerinnenzahl: 4\n\n251-07-007\n\n \n
  
CATEGORIES:Gesundheit &amp; Selbsterfahrung,Mai
LOCATION:Frauenbildungszentrum\, Schöne Aussicht 24 \, Bad Homburg\, Hesse
 n\, 61348  \, Deutschland
X-APPLE-STRUCTURED-LOCATION;VALUE=URI;X-ADDRESS=Schöne Aussicht 24 \, Bad 
 Homburg\, Hessen\, 61348  \, Deutschland;X-APPLE-RADIUS=100;X-TITLE=Frauen
 bildungszentrum:geo:0,0
END:VEVENT
BEGIN:VTIMEZONE
TZID:Europe/Berlin
X-LIC-LOCATION:Europe/Berlin
BEGIN:DAYLIGHT
DTSTART:20250330T030000
TZOFFSETFROM:+0100
TZOFFSETTO:+0200
TZNAME:CEST
END:DAYLIGHT
END:VTIMEZONE
END:VCALENDAR