BEGIN:VCALENDAR
VERSION:2.0
PRODID:-//wp-events-plugin.com//7.2.3.1//EN
BEGIN:VEVENT
UID:836@frauenbildungszentrum.de
DTSTART;TZID=Europe/Berlin:20251016T180000
DTEND;TZID=Europe/Berlin:20251016T190000
DTSTAMP:20250704T114559Z
URL:https://www.frauenbildungszentrum.de/events/entspannung-mit-klang-2
SUMMARY:ENTSPANNUNG MIT KLANG 2
DESCRIPTION:Sound Healing\n\nBeim Sound Healing werden verschiedene Klangin
 strumente verwendet\, darunter Kristall- und tibetische Klangschalen\, Mon
 ochord\, Fen Gong\, Chimes und andere.\n\nDie Schwingungen und Frequenzen\
 , die durch das Anspielen entstehen\, helfen uns Zugang zu unseren Gefühl
 en zu finden und emotionale Blockaden zu lösen. Sie fördern unsere inner
 e Balance\, wirken beruhigend und schaffen einen Ausgleich zu unserem Allt
 ag. Klänge können direkt ins Herz gehen\, uns regenerieren und unser Woh
 lbefinden fördern.\n\nAtem\, Gesundheit und Wohlbefinden sind eng miteina
 nder verbunden. Eine natürliche\, sanfte Bauchatmung aktiviert den Parasy
 mpathikus\, den Ruhenerv\, und beruhigt das Nervensystem. Wir nutzen einfa
 che Atemübungen\, die in Kombination mit Klang und geführten Meditatione
 n den Teilnehmenden helfen\, in eine tiefe Entspannung zu gelangen.\n\nKon
 traindikation:\n\n 	Schizophrenie\, Borderline oder ähnliche psychische E
 rkrankungen\n 	epileptische Anfälle\n 	Herz-Rhythmusstörungen\n\nBei Uns
 icherheiten bitte den Arzt konsultieren!\nWichtig: Sound Healing ist kein 
 Ersatz für eine medizinische Behandlung\, sondern eine ergänzende Method
 e zur Förderung des Wohlbefindens.\n\nDieser Kurs wird in Kooperation mit
  der Katholischen Erwachsenenbildung\, Bildungswerk Hochtaunus angeboten.\
 nLeitung: Natalie Ludwig\nDo.\, 16. Oktober 2025\n18.00 – 19.00 Uhr\n\n2
 52-07-029\n\n \n 
CATEGORIES:Gesundheit &amp; Selbsterfahrung,Oktober
LOCATION:Frauenbildungszentrum\, Schöne Aussicht 24 \, Bad Homburg\, Hesse
 n\, 61348  \, Deutschland
X-APPLE-STRUCTURED-LOCATION;VALUE=URI;X-ADDRESS=Schöne Aussicht 24 \, Bad 
 Homburg\, Hessen\, 61348  \, Deutschland;X-APPLE-RADIUS=100;X-TITLE=Frauen
 bildungszentrum:geo:0,0
END:VEVENT
BEGIN:VTIMEZONE
TZID:Europe/Berlin
X-LIC-LOCATION:Europe/Berlin
BEGIN:DAYLIGHT
DTSTART:20250330T030000
TZOFFSETFROM:+0100
TZOFFSETTO:+0200
TZNAME:CEST
END:DAYLIGHT
END:VTIMEZONE
END:VCALENDAR