BEGIN:VCALENDAR
VERSION:2.0
PRODID:-//wp-events-plugin.com//7.2.3.1//EN
BEGIN:VEVENT
UID:803@frauenbildungszentrum.de
DTSTART;TZID=Europe/Berlin:20250708T200000
DTEND;TZID=Europe/Berlin:20250805T211500
DTSTAMP:20250528T113329Z
URL:https://www.frauenbildungszentrum.de/events/entdecke-die-geheimnisvoll
 e-welt-des-orientalischen-tanzes-fortgeschrittene-3
SUMMARY:Entdecke die geheimnisvolle Welt des orientalischen Tanzes - Fortge
 schrittene 3
DESCRIPTION:Raks Scharki\, auf Deutsch "Bauchtanz"\, ist Sinnlichkeit\, Har
 monie\, Ausdruckskraft und Lebensfreude. Der Unterricht richtet sich an a
 lle Frauen\, unabhängig von Alter und Figur.\nWir bekommen ein neues Kör
 pergefühl\, eine graziöse\, aufrechte Haltung und Selbstbewusstsein. Las
 st uns in die Märchenwelt des Orients eintauchen. Bitte bequeme Kleidung 
 und ein Hüfttuch mitbringen.\nLeitung: Fathme Abdu\n5 x Di.\, 8.07. – 5
 .08.2025\n20.00 -21.15 Uhr\nMindestteilnehmerinnenzahl: 5\nIn den Kursgeb
 ühren ist jeweils GEMA enthalten.\n251-04-233\n&nbsp\;
CATEGORIES:Juli,Musik &amp; Tanz,Sport &amp; Bewegung
LOCATION:Frauenbildungszentrum\, Schöne Aussicht 24 \, Bad Homburg\, Hesse
 n\, 61348  \, Deutschland
X-APPLE-STRUCTURED-LOCATION;VALUE=URI;X-ADDRESS=Schöne Aussicht 24 \, Bad 
 Homburg\, Hessen\, 61348  \, Deutschland;X-APPLE-RADIUS=100;X-TITLE=Frauen
 bildungszentrum:geo:0,0
END:VEVENT
BEGIN:VTIMEZONE
TZID:Europe/Berlin
X-LIC-LOCATION:Europe/Berlin
BEGIN:DAYLIGHT
DTSTART:20250330T030000
TZOFFSETFROM:+0100
TZOFFSETTO:+0200
TZNAME:CEST
END:DAYLIGHT
END:VTIMEZONE
END:VCALENDAR