BEGIN:VCALENDAR
VERSION:2.0
PRODID:-//wp-events-plugin.com//7.2.3.1//EN
BEGIN:VEVENT
UID:966@frauenbildungszentrum.de
DTSTART;TZID=Europe/Berlin:20260623T200000
DTEND;TZID=Europe/Berlin:20260721T211500
DTSTAMP:20260226T102742Z
URL:https://www.frauenbildungszentrum.de/events/entdecke-die-geheimnisvoll
 e-welt-des-orientalischen-tanzes-fortgeschrittene-3-2
SUMMARY:Entdecke die geheimnisvolle Welt des orientalischen Tanzes - Fortge
 schrittene 3
DESCRIPTION:Raks Scharki\, auf Deutsch "Bauchtanz"\, ist Sinnlichkeit\, Har
 monie\, Ausdruckskraft und Lebensfreude. Der Unterricht richtet sich an a
 lle Frauen\, unabhängig von Alter und Figur.\nWir bekommen ein neues Kör
 pergefühl\, eine graziöse\, aufrechte Haltung und Selbstbewusstsein. Las
 st uns in die Märchenwelt des Orients eintauchen. Bitte bequeme Kleidung 
 und ein Hüfttuch mitbringen.\nLeitung: Fathme Abdu\n5 x Di.\, 23.06. – 
 21.07.2026\n20.00 - 21.15 Uhr\nMindestteilnehmerinnenzahl: 5\nIn den Kursg
 ebühren ist jeweils GEMA enthalten.\n261-04-233\n&nbsp\;
CATEGORIES:Juni,Musik &amp; Tanz,Sport &amp; Bewegung
LOCATION:Frauenbildungszentrum\, Schöne Aussicht 24 \, Bad Homburg\, Hesse
 n\, 61348  \, Deutschland
X-APPLE-STRUCTURED-LOCATION;VALUE=URI;X-ADDRESS=Schöne Aussicht 24 \, Bad 
 Homburg\, Hessen\, 61348  \, Deutschland;X-APPLE-RADIUS=100;X-TITLE=Frauen
 bildungszentrum:geo:0,0
END:VEVENT
BEGIN:VTIMEZONE
TZID:Europe/Berlin
X-LIC-LOCATION:Europe/Berlin
BEGIN:DAYLIGHT
DTSTART:20260329T030000
TZOFFSETFROM:+0100
TZOFFSETTO:+0200
TZNAME:CEST
END:DAYLIGHT
END:VTIMEZONE
END:VCALENDAR