BEGIN:VCALENDAR
VERSION:2.0
PRODID:-//wp-events-plugin.com//7.2.3.1//EN
BEGIN:VEVENT
UID:92@frauenbildungszentrum.de
DTSTART;TZID=Europe/Berlin:20260203T200000
DTEND;TZID=Europe/Berlin:20260303T211500
DTSTAMP:20251216T175315Z
URL:https://www.frauenbildungszentrum.de/events/entdecke-die-geheimnisvoll
 e-welt-des-orientalischen-tanzes-fortgeschrittene-1
SUMMARY:Entdecke die geheimnisvolle Welt des orientalischen Tanzes - Fortge
 schrittene 1
DESCRIPTION:Raks Scharki\, auf Deutsch "Bauchtanz"\, ist Sinnlichkeit\, Har
 monie\, Ausdruckskraft und Lebensfreude. Der Unterricht richtet sich an a
 lle Frauen\, unabhängig von Alter und Figur.\nWir bekommen ein neues Kör
 pergefühl\, eine graziöse\, aufrechte Haltung und Selbstbewusstsein. Las
 st uns in die Märchenwelt des Orients eintauchen. Bitte bequeme Kleidung 
 und ein Hüfttuch mitbringen.\nLeitung: Fathme Abdu\n5 x Di.\, 03.02. – 
 03.03.2026\n20.00 -21.15 Uhr\nMindestteilnehmerinnenzahl: 5\nIn den Kursge
 bühren ist jeweils GEMA enthalten.\n261-04-231
CATEGORIES:Februar,Musik &amp; Tanz,Sport &amp; Bewegung
LOCATION:Haus Luise\, Saarstraße 3\, Bad Homburg\, Hessen\, 61350\, Deutsc
 hland
X-APPLE-STRUCTURED-LOCATION;VALUE=URI;X-ADDRESS=Saarstraße 3\, Bad Homburg
 \, Hessen\, 61350\, Deutschland;X-APPLE-RADIUS=100;X-TITLE=Haus Luise:geo:
 0,0
END:VEVENT
BEGIN:VTIMEZONE
TZID:Europe/Berlin
X-LIC-LOCATION:Europe/Berlin
BEGIN:STANDARD
DTSTART:20251026T020000
TZOFFSETFROM:+0200
TZOFFSETTO:+0100
TZNAME:CET
END:STANDARD
END:VTIMEZONE
END:VCALENDAR