BEGIN:VCALENDAR
VERSION:2.0
PRODID:-//wp-events-plugin.com//7.2.3.1//EN
BEGIN:VEVENT
UID:801@frauenbildungszentrum.de
DTSTART;TZID=Europe/Berlin:20250913T110000
DTEND;TZID=Europe/Berlin:20250913T140000
DTSTAMP:20250911T110940Z
URL:https://www.frauenbildungszentrum.de/events/entdecke-die-geheimnisvoll
 e-welt-des-orientalischen-tanzes-anfaengerinnen-3
SUMMARY:Durch den Jahreskreis tanzen 1
DESCRIPTION:Tanzworkshop\nDie Jahreszeiten mit ihren unterschiedlichen Qual
 itäten können eine Inspirationsquelle sein für eigenes Nachspüren.\n\n
 Der Herbst mit seiner Farbigkeit symbolisiert eine Zeit der Vielfalt\, des
  Gereiftseins und der Ernte.\n\nDer beginnende Winter kündigt Ruhe\, Besi
 nnung und Hinwendung zu innerem Licht an. Diesem natürlichen Lebensfluss 
 wollen wir tänzerisch folgen.\n\nDie Kräfte\, die in der äußeren Natur
  aktiv sind\, wirken ebenso in uns. Durch freies\, authentisches Bewegen\,
  werden diese Kräfte erfahrbar. Das schafft Resonanz und Verbundenheit\, 
 die uns stärkt\, nährt und erfüllt.\n\nIn den 3 Stunden gibt es Impulse
  aus dem Emotional-Dance-Process®\, die helfen in die eigene authentische
  Bewegung zu finden\, es gibt Zeit zum Austausch und Nachspüren und Zeit 
 das Bewegte in einem Bild auszudrücken.\n\nEs sind keine tänzerischen Vo
 rerfahrungen nötig. Die Kurse sind einzeln buchbar und bauen nicht auf ei
 nander auf.\n\nBitte mitbringen: bequeme Kleidung\, Tanzschläppchen\, Mal
 papier und Stifte\n\n&nbsp\;\nLeitung: Mona Wosnik und Andrea Waldvogel\nS
 amstag\, 13. September 2025\n11.00 – 14.00 Uhr\nMindestteilnehmerinnenza
 hl: 7\n\n&nbsp\;\nIn den Kursgebühren ist jeweils GEMA enthalten.\n252-04
 -102\n&nbsp\;
CATEGORIES:Musik &amp; Tanz,September
LOCATION:Erlenbachhalle\, Josef-Baumann Str. 15\,\, Bad Homburg\,\, 61352\,
  Deutschland
X-APPLE-STRUCTURED-LOCATION;VALUE=URI;X-ADDRESS=Josef-Baumann Str. 15\,\, B
 ad Homburg\,\, 61352\, Deutschland;X-APPLE-RADIUS=100;X-TITLE=Erlenbachhal
 le:geo:0,0
END:VEVENT
BEGIN:VTIMEZONE
TZID:Europe/Berlin
X-LIC-LOCATION:Europe/Berlin
BEGIN:DAYLIGHT
DTSTART:20250330T030000
TZOFFSETFROM:+0100
TZOFFSETTO:+0200
TZNAME:CEST
END:DAYLIGHT
END:VTIMEZONE
END:VCALENDAR