BEGIN:VCALENDAR
VERSION:2.0
PRODID:-//wp-events-plugin.com//7.2.3.1//EN
BEGIN:VEVENT
UID:149@frauenbildungszentrum.de
DTSTART;TZID=Europe/Berlin:20230131T190000
DTEND;TZID=Europe/Berlin:20230328T203000
DTSTAMP:20230110T175817Z
URL:https://www.frauenbildungszentrum.de/events/englisch-sprechen-macht-sp
 ass
SUMMARY:Englisch sprechen macht Spaß 1
DESCRIPTION:Für leicht fortgeschrittene Frauen (Niveau B1)\nIn diesem Kurs
  für Wiedereinsteigerinnen und auch Interessierte jeden Alters steht der 
 Spaß am gemeinsamen Lernen und das Sprechen in einer kleinen Gruppe im Vo
 rdergrund.\nBereits vorhandene Kenntnisse und der Wortschatz werden aktivi
 ert und erweitert. Spaß am Sprechen ist garantiert!\nWir arbeiten mit dem
  Buch: Refresh Now B1\, Student's Book\, ISBN 978-3-12-605189-7.\nLeitung:
  Mery Heidenreich\n9 x Di.\, 31.01. – 28.03.2023\n19.00 – 20.30 Uhr\n2
 31-03-221
CATEGORIES:Januar,Sprachkurse
LOCATION:Frauenbildungszentrum\, Schöne Aussicht 24 \, Bad Homburg\, Hesse
 n\, 61348  \, Deutschland
X-APPLE-STRUCTURED-LOCATION;VALUE=URI;X-ADDRESS=Schöne Aussicht 24 \, Bad 
 Homburg\, Hessen\, 61348  \, Deutschland;X-APPLE-RADIUS=100;X-TITLE=Frauen
 bildungszentrum:geo:0,0
END:VEVENT
BEGIN:VTIMEZONE
TZID:Europe/Berlin
X-LIC-LOCATION:Europe/Berlin
BEGIN:STANDARD
DTSTART:20221030T020000
TZOFFSETFROM:+0200
TZOFFSETTO:+0100
TZNAME:CET
END:STANDARD
BEGIN:DAYLIGHT
DTSTART:20230326T030000
TZOFFSETFROM:+0100
TZOFFSETTO:+0200
TZNAME:CEST
END:DAYLIGHT
END:VTIMEZONE
END:VCALENDAR