BEGIN:VCALENDAR
VERSION:2.0
PRODID:-//wp-events-plugin.com//7.2.3.1//EN
BEGIN:VEVENT
UID:147@frauenbildungszentrum.de
DTSTART;TZID=Europe/Berlin:20260414T133000
DTEND;TZID=Europe/Berlin:20260623T150000
DTSTAMP:20251216T173456Z
URL:https://www.frauenbildungszentrum.de/events/englisch-mit-zeit-und-muss
 e-2
SUMMARY:Englisch mit Zeit und Muße Mittags 2
DESCRIPTION:Für Anfängerinnen und Frauen mit geringen Kenntnissen (Niveau
  A1)\nDieser Kurs richtet sich Anfängerinnen und jene\, die ihre geringen
  Schulkenntnisse auffrischen möchten.\nIn fröhlicher und stressfreier At
 mosphäre erlernen wir die vier Sprachkompetenzen Hören\, Sprechen\, Lese
 n und Schreiben in typischen Alltagssituationen.\nLeitung: Tamara Schweppe
 \n11 x Di.\, 14.04. – 23.06.2026\n13.30 – 15.00 Uhr\n261-03-212
CATEGORIES:April,Sprachkurse
LOCATION:Frauenbildungszentrum\, Schöne Aussicht 24 \, Bad Homburg\, Hesse
 n\, 61348  \, Deutschland
X-APPLE-STRUCTURED-LOCATION;VALUE=URI;X-ADDRESS=Schöne Aussicht 24 \, Bad 
 Homburg\, Hessen\, 61348  \, Deutschland;X-APPLE-RADIUS=100;X-TITLE=Frauen
 bildungszentrum:geo:0,0
END:VEVENT
BEGIN:VTIMEZONE
TZID:Europe/Berlin
X-LIC-LOCATION:Europe/Berlin
BEGIN:DAYLIGHT
DTSTART:20260329T030000
TZOFFSETFROM:+0100
TZOFFSETTO:+0200
TZNAME:CEST
END:DAYLIGHT
END:VTIMEZONE
END:VCALENDAR