BEGIN:VCALENDAR
VERSION:2.0
PRODID:-//wp-events-plugin.com//7.2.3.1//EN
BEGIN:VEVENT
UID:754@frauenbildungszentrum.de
DTSTART;TZID=Europe/Berlin:20260122T190000
DTEND;TZID=Europe/Berlin:20260305T203000
DTSTAMP:20260127T092324Z
URL:https://www.frauenbildungszentrum.de/events/emotional-dance-process
SUMMARY:EMOTIONAL DANCE PROCESS® 1
DESCRIPTION:Der Emotional-Dance-Process® (EDP) ermöglicht es\, unseren Im
 pulsen und inneren Bildern in der freien Bewegung Ausdruck und Raum zu geb
 en.\n\nAus der Verbindung zu dem\, was gerade ist und sich zeigt\, entsteh
 t ein eigener\, authentischer Tanz. Er bringt uns in Kontakt zu uns selbst
  und schenkt uns Lebensfreude\, Energie und Erkenntnis.\n\nDer Tanzprozess
  wird begleitet durch musikalische und sprachliche Impulse\, sowie durch d
 as Malen und Momente der Stille. Tänzerische Vorerfahrungen sind nicht n
 ötig.\n\nBitte mitbringen: Bequeme Kleidung\, Tanzschläppchen\, Malpapie
 r und Stifte.\n\n&nbsp\;\n\nLeitung: Mona Wosnik\n\n7 x Do.\, 22.01. – 0
 5.03.2026\n19.00 – 20.30 Uhr\n\nMindestteilnehmerinnenzahl: 7\n\n&nbsp\;
 \n\nIn der Kursgebühr ist GEMA enthalten.\n261-04-101
CATEGORIES:Gesundheit &amp; Selbsterfahrung,Januar,Musik &amp; Tanz,Sport
 &amp; Bewegung
LOCATION:Frauenbildungszentrum\, Schöne Aussicht 24 \, Bad Homburg\, Hesse
 n\, 61348  \, Deutschland
X-APPLE-STRUCTURED-LOCATION;VALUE=URI;X-ADDRESS=Schöne Aussicht 24 \, Bad 
 Homburg\, Hessen\, 61348  \, Deutschland;X-APPLE-RADIUS=100;X-TITLE=Frauen
 bildungszentrum:geo:0,0
END:VEVENT
BEGIN:VTIMEZONE
TZID:Europe/Berlin
X-LIC-LOCATION:Europe/Berlin
BEGIN:STANDARD
DTSTART:20251026T020000
TZOFFSETFROM:+0200
TZOFFSETTO:+0100
TZNAME:CET
END:STANDARD
END:VTIMEZONE
END:VCALENDAR