BEGIN:VCALENDAR
VERSION:2.0
PRODID:-//wp-events-plugin.com//7.2.3.1//EN
BEGIN:VEVENT
UID:848@frauenbildungszentrum.de
DTSTART;TZID=Europe/Berlin:20251023T190000
DTEND;TZID=Europe/Berlin:20251204T203000
DTSTAMP:20251211T182112Z
URL:https://www.frauenbildungszentrum.de/events/emotional-dance-process-2
SUMMARY:EMOTIONAL DANCE PROCESS® 2
DESCRIPTION:Der Emotional-Dance-Process® (EDP) ermöglicht es\, unseren Im
 pulsen und inneren Bildern in der freien Bewegung Ausdruck und Raum zu geb
 en.\n\nAus der Verbindung zu dem\, was gerade ist und sich zeigt\, entsteh
 t ein eigener\, authentischer Tanz. Er bringt uns in Kontakt zu uns selbst
  und schenkt uns Lebensfreude\, Energie und Erkenntnis.\n\nDer Tanzprozess
  wird begleitet durch musikalische und sprachliche Impulse\, sowie durch d
 as Malen und Momente der Stille. Tänzerische Vorerfahrungen sind nicht n
 ötig.\n\nBitte mitbringen: Bequeme Kleidung\, Tanzschläppchen\, Malpapie
 r und Stifte.\n\n&nbsp\;\n\nLeitung: Mona Wosnik\n\n6 x Do.\, 16.04. – 2
 8.05.2026\n19.00 – 20.30 Uhr\nnicht am 14.05.2026\n\nMindestteilnehmerin
 nenzahl: 7\n\n&nbsp\;\n\nIn der Kursgebühr ist GEMA enthalten.\n261-04-10
 4
CATEGORIES:April,Gesundheit &amp; Selbsterfahrung,Musik &amp; Tanz,Sport
 &amp; Bewegung
LOCATION:Erlenbachhalle\, Josef-Baumann Str. 15\,\, Bad Homburg\,\, 61352\,
  Deutschland
X-APPLE-STRUCTURED-LOCATION;VALUE=URI;X-ADDRESS=Josef-Baumann Str. 15\,\, B
 ad Homburg\,\, 61352\, Deutschland;X-APPLE-RADIUS=100;X-TITLE=Erlenbachhal
 le:geo:0,0
END:VEVENT
BEGIN:VTIMEZONE
TZID:Europe/Berlin
X-LIC-LOCATION:Europe/Berlin
BEGIN:DAYLIGHT
DTSTART:20250330T030000
TZOFFSETFROM:+0100
TZOFFSETTO:+0200
TZNAME:CEST
END:DAYLIGHT
BEGIN:STANDARD
DTSTART:20251026T020000
TZOFFSETFROM:+0200
TZOFFSETTO:+0100
TZNAME:CET
END:STANDARD
END:VTIMEZONE
END:VCALENDAR