BEGIN:VCALENDAR
VERSION:2.0
PRODID:-//wp-events-plugin.com//7.2.3.1//EN
BEGIN:VEVENT
UID:971@frauenbildungszentrum.de
DTSTART;TZID=Europe/Berlin:20260323T180000
DTEND;TZID=Europe/Berlin:20260323T200000
DTSTAMP:20251212T112420Z
URL:https://www.frauenbildungszentrum.de/events/emaille-schmuck-gestalten-
 2
SUMMARY:Emaille Schmuck gestalten 2
DESCRIPTION:Die „Farben aus dem Feuer" faszinieren immer wieder aufs Neue
 . Die Schmuckrohlinge bestehe aus Kupfer\, werden mit 800 bis 1100 Grad ge
 brannt und erhalten so ihren Namen. In diesem Workshop lernen Sie die Grun
 dlagen der Emaille-Technik und die Gestaltungsmöglich-keiten eines mehrer
 e tausend Jahre alten Handwerks kennen.\n\nNach eigenen Vorstellungen werd
 en ein Kettenanhänger oder eine Brosche gestaltet.\n\n&nbsp\;\n\n( Es ent
 stehen noch Materialkosten von € 2\,-- bis € 7\,-- je nach Größe des
  Rohlings\, die direkt an die Referentin zu zahlen sind. )\nLeitung: Petra
  Hannemann\nMontag\, 23. März 2026\n18.00 – 20.00 Uhr\nmaximal 6 Teilne
 hmerinnen\n261-06-010
CATEGORIES:Kreatives,März
LOCATION:Frauenbildungszentrum\, Schöne Aussicht 24 \, Bad Homburg\, Hesse
 n\, 61348  \, Deutschland
X-APPLE-STRUCTURED-LOCATION;VALUE=URI;X-ADDRESS=Schöne Aussicht 24 \, Bad 
 Homburg\, Hessen\, 61348  \, Deutschland;X-APPLE-RADIUS=100;X-TITLE=Frauen
 bildungszentrum:geo:0,0
END:VEVENT
BEGIN:VTIMEZONE
TZID:Europe/Berlin
X-LIC-LOCATION:Europe/Berlin
BEGIN:STANDARD
DTSTART:20251026T020000
TZOFFSETFROM:+0200
TZOFFSETTO:+0100
TZNAME:CET
END:STANDARD
END:VTIMEZONE
END:VCALENDAR