BEGIN:VCALENDAR
VERSION:2.0
PRODID:-//wp-events-plugin.com//7.2.3.1//EN
BEGIN:VEVENT
UID:13@frauenbildungszentrum.de
DTSTART;TZID=Europe/Berlin:20260415T093000
DTEND;TZID=Europe/Berlin:20260506T123000
DTSTAMP:20251210T111612Z
URL:https://www.frauenbildungszentrum.de/events/einfuehrung-in-word-fuer-s
 eniorinnen
SUMMARY:Einführung in Word für Seniorinnen
DESCRIPTION: Voraussetzungen: Schnupperkurs u. Aufbaukurs\nWir lernen\, da
 s Textverarbeitungsprogramm Word zu benutzen. Dabei geben wir Texte ein\, 
 korrigieren\, speichern und öffnen sie.\nDiese Texte gestalten wir\, z.B.
  einen Brief oder eine schöne Einladung und drucken sie aus. Auch für da
 s Schreiben von E-Mails sind Word-Kenntnisse eine wichtige Grundlage.\nLei
 tung: Edith Kempf-Schindler\n4 x Mi.\, 15.04. – 06.05.2026\n09.30 – 12
 .30 Uhr\nMindestteilnehmerinnenzahl: 4\n\n&nbsp\;\n\n261-02-201\n\n \n\n
  
CATEGORIES:April,Computer &amp; Handy 60+,Computerkurse
LOCATION:Frauenbildungszentrum\, Schöne Aussicht 24 \, Bad Homburg\, Hesse
 n\, 61348  \, Deutschland
X-APPLE-STRUCTURED-LOCATION;VALUE=URI;X-ADDRESS=Schöne Aussicht 24 \, Bad 
 Homburg\, Hessen\, 61348  \, Deutschland;X-APPLE-RADIUS=100;X-TITLE=Frauen
 bildungszentrum:geo:0,0
END:VEVENT
BEGIN:VTIMEZONE
TZID:Europe/Berlin
X-LIC-LOCATION:Europe/Berlin
BEGIN:DAYLIGHT
DTSTART:20260329T030000
TZOFFSETFROM:+0100
TZOFFSETTO:+0200
TZNAME:CEST
END:DAYLIGHT
END:VTIMEZONE
END:VCALENDAR