BEGIN:VCALENDAR
VERSION:2.0
PRODID:-//wp-events-plugin.com//7.2.3.1//EN
BEGIN:VEVENT
UID:414@frauenbildungszentrum.de
DTSTART;TZID=Europe/Berlin:20260314T100000
DTEND;TZID=Europe/Berlin:20260314T140000
DTSTAMP:20251212T120221Z
URL:https://www.frauenbildungszentrum.de/events/einfach-gluecklich-sein
SUMMARY:Einfach glücklich sein
DESCRIPTION:Jeden Tag ein wenig glücklicher sein\, wer wünscht sich das n
 icht. Es gibt so viele äußere Umstände\, die uns davon abhalten. Der Al
 ltag holt uns immer wieder ein\, wir fallen in alte Verhaltensmuster zurü
 ck. In meinem Workshop werden wir darauf eingehen\, wie Gefühle entstehen
 \, wie wir den Verstand mit dem Herzen verbinden können\, und vor allem w
 erden konkrete Wege und Übungen gezeigt\, wie wir neue Gewohnheiten (Happ
 iness Habits) schaffen können\, um ein neues\, erfüllteres Leben zu füh
 ren. Als „Happy for No Reason“-Trainerin zeige ich die verschiedenen W
 ege auf\, die den Menschen den Zugang zu ihrem Haus des Glücks ermöglich
 en\, einem Glück\, das nicht von äußerlichen Faktoren abhängt.\n\n&nbs
 p\;\nLeitung: Susanne Thies-Frühling\nDieser Kurs wird in Kooperation mit
  der Katholischen Erwachsenenbildung\, Bildungswerk Hochtaunus angeboten.\
 nSamstag\, 14. März 2026\n10.00 – 14.00 Uhr\n\n261-07-011\n 
CATEGORIES:Gesundheit &amp; Selbsterfahrung,März
LOCATION:Frauenbildungszentrum\, Schöne Aussicht 24 \, Bad Homburg\, Hesse
 n\, 61348  \, Deutschland
X-APPLE-STRUCTURED-LOCATION;VALUE=URI;X-ADDRESS=Schöne Aussicht 24 \, Bad 
 Homburg\, Hessen\, 61348  \, Deutschland;X-APPLE-RADIUS=100;X-TITLE=Frauen
 bildungszentrum:geo:0,0
END:VEVENT
BEGIN:VTIMEZONE
TZID:Europe/Berlin
X-LIC-LOCATION:Europe/Berlin
BEGIN:STANDARD
DTSTART:20251026T020000
TZOFFSETFROM:+0200
TZOFFSETTO:+0100
TZNAME:CET
END:STANDARD
END:VTIMEZONE
END:VCALENDAR