BEGIN:VCALENDAR
VERSION:2.0
PRODID:-//wp-events-plugin.com//7.2.3.1//EN
BEGIN:VEVENT
UID:415@frauenbildungszentrum.de
DTSTART;TZID=Europe/Berlin:20240517T180000
DTEND;TZID=Europe/Berlin:20240524T200000
DTSTAMP:20240415T084331Z
URL:https://www.frauenbildungszentrum.de/events/einfach-gluecklich-sein-2
SUMMARY:Einfach glücklich sein 2
DESCRIPTION:Jeden Tag ein wenig glücklicher sein\, wer wünscht sich das n
 icht. Es gibt so viele äußere Umstände\, die uns davon abhalten. Der Al
 ltag holt uns immer wieder ein\, wir fallen in alte Verhaltensmuster zurü
 ck. In meinem Workshop werden wir darauf eingehen\, wie Gefühle entstehen
 \, wie wir den Verstand mit dem Herzen verbinden können\, und vor allem w
 erden konkrete Wege und Übungen gezeigt\, wie wir neue Gewohnheiten (Happ
 iness Habits) schaffen können\, um ein neues\, erfüllteres Leben zu füh
 ren. Als „Happy for No Reason“-Trainerin zeige ich die verschiedenen W
 ege auf\, die den Menschen den Zugang zu ihrem Haus des Glücks ermöglich
 en\, einem Glück\, das nicht von äußerlichen Faktoren abhängt.\n\n&nbs
 p\;\nLeitung: Susanne Thies-Frühling\nDieser Kurs wird in Kooperation mit
  der Katholischen Erwachsenenbildung\, Bildungswerk Hochtaunus angeboten.\
 n2 x Fr.\, 17.05. – 24.05.2024\n18.00 – 20.00 Uhr\n\n241-07-013\n 
CATEGORIES:Gesundheit &amp; Selbsterfahrung,Mai
LOCATION:Frauenbildungszentrum\, Schöne Aussicht 24 \, Bad Homburg\, Hesse
 n\, 61348  \, Deutschland
X-APPLE-STRUCTURED-LOCATION;VALUE=URI;X-ADDRESS=Schöne Aussicht 24 \, Bad 
 Homburg\, Hessen\, 61348  \, Deutschland;X-APPLE-RADIUS=100;X-TITLE=Frauen
 bildungszentrum:geo:0,0
END:VEVENT
BEGIN:VTIMEZONE
TZID:Europe/Berlin
X-LIC-LOCATION:Europe/Berlin
BEGIN:DAYLIGHT
DTSTART:20240331T030000
TZOFFSETFROM:+0100
TZOFFSETTO:+0200
TZNAME:CEST
END:DAYLIGHT
END:VTIMEZONE
END:VCALENDAR