BEGIN:VCALENDAR
VERSION:2.0
PRODID:-//wp-events-plugin.com//7.2.3.1//EN
BEGIN:VEVENT
UID:52@frauenbildungszentrum.de
DTSTART;TZID=Europe/Berlin:20230313T190000
DTEND;TZID=Europe/Berlin:20230429T210000
DTSTAMP:20230307T082938Z
URL:https://www.frauenbildungszentrum.de/events/eine-reise-zu-sich-selbst-
 2
SUMMARY:Eine Reise zu sich selbst 2
DESCRIPTION:Selbstwahrnehmung und Resilienz\nWoran liegt es eigentlich\, da
 ss einige Menschen die Herausforderungen des Lebens leichter bewältigen k
 önnen und dabei ihre innere Balance behalten? Die Resilienz\, auch als ps
 ychische Widerstandskraft bezeichnet\, liefert hier hilfreiche Tipps und I
 deen\, wie wir uns selbst innerlich stärken und wieder mit mehr Kraft und
  Freude das Leben genießen können.\n\nLernen Sie über Ihre eigene Selbs
 twahrnehmung und -beobachtung\, wo Ihre persönlichen Stellschrauben sind\
 , um wieder fröhlicher und leichter den Herausforderungen des Alltags zu 
 begegnen. Auch der Humor kommt in diesem Kurs nicht zu kurz und Sie erfahr
 en\, welche tragende Rolle er in unserem Leben übernehmen kann.\n\nAlle T
 eilnehmenden erhalten vor Beginn einen Lerntypentest\, auf den die Übunge
 n gezielt aufgebaut werden. Dies soll Sie dabei unterstützen\, die Resili
 enz mit Leichtigkeit in Ihren Alltag einzubauen und nachhaltig in Ihre Wah
 rnehmung zu integrieren. Die ersten drei Abende finden online über Zoom s
 tatt. Am letzten Termin treffen sich die Teilnehmerinnen im Frauenbildungs
 zentrum.\n\nLeitung: Diana Köstler\n\nonline/präsenz\n3 x Mo.\, 13.03. 
 – 27.03.2023\n19.00 – 21.00 Uhr und\n\nSamstag\, 29.04.2023\n10.00 –
  13.00 Uhr\n\nOrt: online über Zoom / Frauenbildungszentrum\n\n231-07-006
CATEGORIES:Gesundheit &amp; Selbsterfahrung,März
LOCATION:Frauenbildungszentrum\, Schöne Aussicht 24 \, Bad Homburg\, Hesse
 n\, 61348  \, Deutschland
X-APPLE-STRUCTURED-LOCATION;VALUE=URI;X-ADDRESS=Schöne Aussicht 24 \, Bad 
 Homburg\, Hessen\, 61348  \, Deutschland;X-APPLE-RADIUS=100;X-TITLE=Frauen
 bildungszentrum:geo:0,0
END:VEVENT
BEGIN:VTIMEZONE
TZID:Europe/Berlin
X-LIC-LOCATION:Europe/Berlin
BEGIN:STANDARD
DTSTART:20221030T020000
TZOFFSETFROM:+0200
TZOFFSETTO:+0100
TZNAME:CET
END:STANDARD
BEGIN:DAYLIGHT
DTSTART:20230326T030000
TZOFFSETFROM:+0100
TZOFFSETTO:+0200
TZNAME:CEST
END:DAYLIGHT
END:VTIMEZONE
END:VCALENDAR