BEGIN:VCALENDAR
VERSION:2.0
PRODID:-//wp-events-plugin.com//7.2.3.1//EN
BEGIN:VEVENT
UID:397@frauenbildungszentrum.de
DTSTART;TZID=Europe/Berlin:20240228T163000
DTEND;TZID=Europe/Berlin:20240228T183000
DTSTAMP:20240222T083240Z
URL:https://www.frauenbildungszentrum.de/events/ein-nachmittag-zum-wohlfue
 hlen
SUMMARY:Ein Nachmittag zum Wohlfühlen
DESCRIPTION:Stress loswerden und entspannen\nSie brauchen mal eine Auszeit 
 nur für dich? Sie wollen entspannen und die Entspannung nach außen auch 
 ausstrahlen? Sie möchten einen Nachmittag voll von Beauty\, Spaß und gut
 er Gesellschaft genießen?\nKommen Sie zum Wohlfühlnachmittag mit Vanessa
  Corrado. Einer Frau\, die um Stress\, Muttersein und Multitasking weiß. 
 Genießen Sie mit einer Gruppe von Frauen einen Entspannungsnachmittag fü
 r sich mit rein natürlichen Anwendungen für Körper\, Geist und Seele.\n
 Bei sieben Wellness-Anwendungen im Sitzen\, wie einem Dampfbad oder einer 
 Kompresse für die Augen können Sie abtauchen\, genießen und pure Entspa
 nnung erleben.\nAber Achtung! Der Wohlfühlfaktor ist so hoch\, es besteht
  Suchtpotential!\nBitte mitbringen: 1 Gästehandtuch (ca.30x40 cm)\, 1 nor
 males Handtuch (min. 50x75 cm)\, 1 Teelöffel\, hochwertigen Honig (keinen
  Honig-Verschnitt)\, 1 Glas (gerne mit Deckel\, falls Rest übrig)\, 1 Sch
 üsselchen (ca. 15 cm Durchmesser\, 1 große Schüssel (min. 20-30 cm Dur
 chmesser). Die Schüsseln sollten aus Glas oder Keramik bestehen (kein Pla
 stik) und für heißes Wasser geeignet sein. 1\,5 l heißes Wasser (in The
 rmoskanne bereithalten)\, Haarband.\n( Es entstehen noch Materialkosten f
 ür die in den Anwendungen benötigten Produkte in Höhe von € 29\,--\, 
 die direkt an die Referentin zu zahlen sind. )\nLeitung: Vanessa Corrado\n
 \nMittwoch\, 28. Februar 2024\n16.30 – 18.30 Uhr\n\n241-07-028\n\n&nbsp\
 ;
CATEGORIES:Februar,Gesundheit &amp; Selbsterfahrung
LOCATION:Frauenbildungszentrum\, Schöne Aussicht 24 \, Bad Homburg\, Hesse
 n\, 61348  \, Deutschland
X-APPLE-STRUCTURED-LOCATION;VALUE=URI;X-ADDRESS=Schöne Aussicht 24 \, Bad 
 Homburg\, Hessen\, 61348  \, Deutschland;X-APPLE-RADIUS=100;X-TITLE=Frauen
 bildungszentrum:geo:0,0
END:VEVENT
BEGIN:VTIMEZONE
TZID:Europe/Berlin
X-LIC-LOCATION:Europe/Berlin
BEGIN:STANDARD
DTSTART:20231029T020000
TZOFFSETFROM:+0200
TZOFFSETTO:+0100
TZNAME:CET
END:STANDARD
END:VTIMEZONE
END:VCALENDAR