BEGIN:VCALENDAR
VERSION:2.0
PRODID:-//wp-events-plugin.com//7.2.3.1//EN
BEGIN:VEVENT
UID:45@frauenbildungszentrum.de
DTSTART;TZID=Europe/Berlin:20260319T170000
DTEND;TZID=Europe/Berlin:20260319T203000
DTSTAMP:20260105T113226Z
URL:https://www.frauenbildungszentrum.de/events/ebay-kleinanzeigen
SUMMARY:Kleinanzeigen
DESCRIPTION:Der Flohmarkt im Internet\nVoraussetzungen: Keine Vorkenntnisse
  erforderlich\nSchnäppchen ersteigern oder selbst verkaufen – sicher ha
 ben auch Sie Kleidung\, Bücher oder andere Dinge zuhause\, für die ander
 e noch Geld zahlen würden. Über Kleinanzeigen.de (früher Ebay-Kleinanze
 igen) können Sie wie auf dem Flohmarkt Dinge kaufen oder verkaufen – nu
 r online. An diesem Abend erfahren Sie alles Wichtige rund um das Agieren 
 auf dieser Internetplattform. Sie lernen unter anderem:\n\n\n 	Anmeldung u
 nd was Sie dabei beachten sollten\n 	Artikel kaufen und verkaufen\n 	wie S
 ie ein Angebot einstellen und richtig platzieren\n 	Rechte und Pflichten a
 ls Käuferin oder Verkäuferin\n 	Erkennen von unseriösen Anbietern\n\nF
 ür die Anmeldung zur kleinanzeigen.de-Plattform bitte das eigene Handy\, 
 eine eigene Email Adresse und die Zugangsdaten(Passwort) dazu mitbringen.\
 n&nbsp\;\nKursleitung: Juliane Bergmann\nDonnerstag\, 19. März 2026\n17.0
 0 – 20.30 Uhr\n\nMindestteilnehmerinnenzahl: 4\n\n&nbsp\;\n\n261-01-305\
 n\n 
CATEGORIES:Computer Spezial,Computerkurse,März
LOCATION:Frauenbildungszentrum\, Schöne Aussicht 24 \, Bad Homburg\, Hesse
 n\, 61348  \, Deutschland
X-APPLE-STRUCTURED-LOCATION;VALUE=URI;X-ADDRESS=Schöne Aussicht 24 \, Bad 
 Homburg\, Hessen\, 61348  \, Deutschland;X-APPLE-RADIUS=100;X-TITLE=Frauen
 bildungszentrum:geo:0,0
END:VEVENT
BEGIN:VTIMEZONE
TZID:Europe/Berlin
X-LIC-LOCATION:Europe/Berlin
BEGIN:STANDARD
DTSTART:20251026T020000
TZOFFSETFROM:+0200
TZOFFSETTO:+0100
TZNAME:CET
END:STANDARD
END:VTIMEZONE
END:VCALENDAR