BEGIN:VCALENDAR
VERSION:2.0
PRODID:-//wp-events-plugin.com//7.2.3.1//EN
BEGIN:VEVENT
UID:145@frauenbildungszentrum.de
DTSTART;TZID=Europe/Berlin:20230623T180000
DTEND;TZID=Europe/Berlin:20230623T213000
DTSTAMP:20230607T090034Z
URL:https://www.frauenbildungszentrum.de/events/ebay-kleinanzeigen-2
SUMMARY:(ebay) Kleinanzeigen 2
DESCRIPTION:Richtig kaufen und verkaufen\nVoraussetzungen: Keine Vorkenntni
 sse erforderlich\nSchnäppchen ersteigern oder selbst verkaufen – entrü
 mpeln Sie Ihren Keller\, es sind sicher einige Schätze dabei\, für die a
 ndere noch Geld zahlen! (Ebay) Kleinanzeigen ist der Flohmarkt im Internet
  und somit einer der größten Onlinemarktplätze. Wie Sie an diesem Gesch
 ehen teilnehmen können\, erfahren Sie in diesem Kurs. Sie lernen unter an
 derem:\n\n\n 	Anmeldung bei (Ebay) Kleinanzeigen und was Sie dabei beachte
 n sollten\n 	Artikel kaufen\n 	wie Sie ein Angebot einstellen und richtig 
 platzieren\n 	Rechte und Pflichten als Käuferin oder Verkäuferin\n\nKurs
 leitung: Birgit Henrici\nFreitag\, 23. Juni 2023\n\n18.00 – 21.30 Uhr\n\
 nMindestteilnehmerinnenzahl: 4\n\n231-01-306
CATEGORIES:Computer Spezial,Computerkurse,Juni
LOCATION:Frauenbildungszentrum\, Schöne Aussicht 24 \, Bad Homburg\, Hesse
 n\, 61348  \, Deutschland
X-APPLE-STRUCTURED-LOCATION;VALUE=URI;X-ADDRESS=Schöne Aussicht 24 \, Bad 
 Homburg\, Hessen\, 61348  \, Deutschland;X-APPLE-RADIUS=100;X-TITLE=Frauen
 bildungszentrum:geo:0,0
END:VEVENT
BEGIN:VTIMEZONE
TZID:Europe/Berlin
X-LIC-LOCATION:Europe/Berlin
BEGIN:DAYLIGHT
DTSTART:20230326T030000
TZOFFSETFROM:+0100
TZOFFSETTO:+0200
TZNAME:CEST
END:DAYLIGHT
END:VTIMEZONE
END:VCALENDAR