BEGIN:VCALENDAR
VERSION:2.0
PRODID:-//wp-events-plugin.com//7.2.3.1//EN
BEGIN:VEVENT
UID:561@frauenbildungszentrum.de
DTSTART;TZID=Europe/Berlin:20250226T180000
DTEND;TZID=Europe/Berlin:20250402T193000
DTSTAMP:20250211T153112Z
URL:https://www.frauenbildungszentrum.de/events/durch-angepasste-ernaehrun
 g-zu-mehr-wohlbefinden-und-vitalitaet
SUMMARY:Durch angepasste Ernährung zu mehr Wohlbefinden und Vitalität
DESCRIPTION:„Fresh up your life – pure plant power journey“\n\nSind S
 ie bereit für eine 6-wöchige Reise zu einem frischeren\, gesünderen Leb
 en? Wir nehmen Sie mit auf eine transformative Reise zu Wohlbefinden und V
 italität.\n• Durch vegane Ernährung entdecken Sie pflanzliche Genüsse
  und steigern Ihre Energie.\n• Glutenfreie Mahlzeiten sind köstlich und
  bringen neue Geschmäcker zum Vorschein.\n• Befreien Sie sich von der A
 bhängigkeit nach Zucker und spüren\, wie sich der Körper erneuert.\n•
  Durch den Verzicht auf Alkohol erleben Sie Klarheit und Energie.\n• Wä
 hlen Sie bewusst Lebensmittel in Bioqualität für eine gesunde Ernährung
 .\nDas Ziel ist es\, neue gesündere Gewohnheiten zu erarbeiten\, mehr üb
 er Nahrungsmittel zu erfahren den Körper vom Zucker zu entwöhnen\, zu en
 tgiften und ihn in die Selbstheilung zu bringen.\nEin umfangreiches Handou
 t erleichtert die Umsetzung. In den Treffen werden jede Woche andere Schwe
 rpunktthemen wie Intervall-Fasten\, Stressmanagement und Darmgesundheit be
 handelt. Außerdem besteht die Möglichkeit zum Austausch.\nBitte klären 
 Sie im Zweifelsfall mit Ihrem Arzt\, ob Sie an diesem Angebot teilnehmen k
 önnen.\n\n&nbsp\;\nLeitung: Jennifer Bußmeyer de Léon\nDieser Kurs wird
  in Kooperation mit der Katholischen Erwachsenenbildung\, Bildungswerk Hoc
 htaunus angeboten.\n6 x Mi.\, 26.02. – 02.04.2025\n18.00 – 19.30 Uhr\n
 Mindestteilnehmerinnenzahl: 6\n\n251-07-025\n\n \n 
CATEGORIES:Februar,Gesundheit &amp; Selbsterfahrung
LOCATION:Frauenbildungszentrum\, Schöne Aussicht 24 \, Bad Homburg\, Hesse
 n\, 61348  \, Deutschland
X-APPLE-STRUCTURED-LOCATION;VALUE=URI;X-ADDRESS=Schöne Aussicht 24 \, Bad 
 Homburg\, Hessen\, 61348  \, Deutschland;X-APPLE-RADIUS=100;X-TITLE=Frauen
 bildungszentrum:geo:0,0
END:VEVENT
BEGIN:VTIMEZONE
TZID:Europe/Berlin
X-LIC-LOCATION:Europe/Berlin
BEGIN:STANDARD
DTSTART:20241027T020000
TZOFFSETFROM:+0200
TZOFFSETTO:+0100
TZNAME:CET
END:STANDARD
BEGIN:DAYLIGHT
DTSTART:20250330T030000
TZOFFSETFROM:+0100
TZOFFSETTO:+0200
TZNAME:CEST
END:DAYLIGHT
END:VTIMEZONE
END:VCALENDAR