BEGIN:VCALENDAR
VERSION:2.0
PRODID:-//wp-events-plugin.com//7.2.3.1//EN
BEGIN:VEVENT
UID:972@frauenbildungszentrum.de
DTSTART;TZID=Europe/Berlin:20260309T180000
DTEND;TZID=Europe/Berlin:20260309T190000
DTSTAMP:20251216T191753Z
URL:https://www.frauenbildungszentrum.de/events/duftreise-urlaubsfeeling-p
 ur
SUMMARY:Duftreise – Urlaubsfeeling pur
DESCRIPTION:Lassen Sie die Seele baumeln und entspannen Sie mit Hilfe angen
 ehmer Düfte.\n\nNach einer kurzen Erläuterung zur Herstellung des bei de
 r Duftreise verwendeten Öles werden Sie mit Hilfe einiger Elemente aus au
 togenem Training und Muskelentspannung in eine Wohlfühlstimmung gebracht.
  Ein leise plätschernder\, mit einigen Tropfen Öl angereicherter Brunnen
 \, verstärkt dieses Gefühl.\n\nDer Einsatz von Ölen erleichtert die Vor
 stellung der bei der Phantasiereise beschriebenen Situationen und entfalte
 t somit eine ganz spezifische Wirkung.\n\nBitte bringen Sie ein Kissen und
  eine Decke mit.\n\n&nbsp\;\nLeitung: Petra Hannemann\nFreitag\, 09. März
  2026\n18.00 – 19.00 Uhr\n\n&nbsp\;\n261-07-018
CATEGORIES:Gesundheit &amp; Selbsterfahrung,März
LOCATION:Frauenbildungszentrum\, Schöne Aussicht 24 \, Bad Homburg\, Hesse
 n\, 61348  \, Deutschland
X-APPLE-STRUCTURED-LOCATION;VALUE=URI;X-ADDRESS=Schöne Aussicht 24 \, Bad 
 Homburg\, Hessen\, 61348  \, Deutschland;X-APPLE-RADIUS=100;X-TITLE=Frauen
 bildungszentrum:geo:0,0
END:VEVENT
BEGIN:VTIMEZONE
TZID:Europe/Berlin
X-LIC-LOCATION:Europe/Berlin
BEGIN:STANDARD
DTSTART:20251026T020000
TZOFFSETFROM:+0200
TZOFFSETTO:+0100
TZNAME:CET
END:STANDARD
END:VTIMEZONE
END:VCALENDAR