BEGIN:VCALENDAR
VERSION:2.0
PRODID:-//wp-events-plugin.com//7.2.3.1//EN
BEGIN:VEVENT
UID:407@frauenbildungszentrum.de
DTSTART;TZID=Europe/Berlin:20240417T170000
DTEND;TZID=Europe/Berlin:20240417T180000
DTSTAMP:20240415T090615Z
URL:https://www.frauenbildungszentrum.de/events/dufte-phantasiereise
SUMMARY:Dufte Phantasiereise
DESCRIPTION:Du möchtest mit allen Sinnen entspannen und die ganzheitliche 
 Wirkung einer Phantasiereise erleben? Harmonisiere Körper\, Geist und See
 le mit dem sinnlichen Erleben eines Entspannungsverfahrens in Kombination 
 mit einem Duft.\nDurch den Einsatz ätherischer Öle erlebst du einen posi
 tiven Einfluss auf deine Erinnerungen\, Assoziationen und Gefühle. Auch d
 ein Nervensystem und Hormonsystem profitieren davon\, denn ätherische Öl
 e wirken z.B. beruhigend\, entspannend und seelenstreichelnd. Die Düfte v
 erstärken die entspannende Wirkung der Phantasiereise und gewähren dir l
 anganhaltende Entspannung bis in den Alltag hinein.\nBitte mitbringen: ein
 e Gymnastikmatte\, zwei große Handtücher\, ggf. Decke und Kissen\, damit
  du es dir gemütlich machen kannst.\n\n&nbsp\;\nLeitung: Vanessa Corrado\
 nMittwoch\, 17. April 2024\n17.00 – 18.00 Uhr\n\n&nbsp\;\n\n241-07-032\n
  
CATEGORIES:April,Gesundheit &amp; Selbsterfahrung
LOCATION:Frauenbildungszentrum\, Schöne Aussicht 24 \, Bad Homburg\, Hesse
 n\, 61348  \, Deutschland
X-APPLE-STRUCTURED-LOCATION;VALUE=URI;X-ADDRESS=Schöne Aussicht 24 \, Bad 
 Homburg\, Hessen\, 61348  \, Deutschland;X-APPLE-RADIUS=100;X-TITLE=Frauen
 bildungszentrum:geo:0,0
END:VEVENT
BEGIN:VTIMEZONE
TZID:Europe/Berlin
X-LIC-LOCATION:Europe/Berlin
BEGIN:DAYLIGHT
DTSTART:20240331T030000
TZOFFSETFROM:+0100
TZOFFSETTO:+0200
TZNAME:CEST
END:DAYLIGHT
END:VTIMEZONE
END:VCALENDAR