BEGIN:VCALENDAR
VERSION:2.0
PRODID:-//wp-events-plugin.com//7.2.3.1//EN
BEGIN:VEVENT
UID:368@frauenbildungszentrum.de
DTSTART;TZID=Europe/Berlin:20231006T180000
DTEND;TZID=Europe/Berlin:20231006T200000
DTSTAMP:20230926T155841Z
URL:https://www.frauenbildungszentrum.de/events/die-wechseljahre
SUMMARY:Die Wechseljahre
DESCRIPTION:Nein\, danke!“ oder Ja\, bitte!“\nAllein der Begriff „Wec
 hseljahre“ wirkt auf viele Frauen wie ein Schreckgespenst. Gedanken an u
 nliebsame Symptome\, wie Hitzewallungen\, Schlafstörungen\, Haarausfall\,
  und\, und\, und… gehen damit einher.\nIn meinem heutigen Vortrag möcht
 e ich Sie einladen zunächst einmal nicht mit möglichen Symptomen zu hade
 rn\, sondern Ihren Körper liebevoll durch diese Zeit zu begleiten. Wir sp
 rechen über die Power der Hormone und darüber was genau eigentlich im K
 örper einer Frau passiert.\nIch möchte Ihnen aufzeigen\, wie Sie einerse
 its durch einen gesunden Lebensstil aber auch durch wunderbare Helferlein 
 der Naturheilkunde Wechseljahresbeschwerden vorbeugen bzw. lindern können
 . Zudem ist es mir eine Herzensangelegenheit mit Ihnen gemeinsam freudvoll
  auf die „Wandeljahre“ zu blicken\, bergen sie doch ganz viel Potenzia
 l für eine sehr bereichernde Lebensphase. Lassen Sie uns die Kraft des Wa
 ndels nutzen!\nLeitung: Marina Wagner\n\nFreitag\, 6. Oktober 2023\n\n18.0
 0 – 20.00 Uhr\n\n232-07-027\n 
CATEGORIES:Gesundheit &amp; Selbsterfahrung,Oktober
LOCATION:Frauenbildungszentrum\, Schöne Aussicht 24 \, Bad Homburg\, Hesse
 n\, 61348  \, Deutschland
X-APPLE-STRUCTURED-LOCATION;VALUE=URI;X-ADDRESS=Schöne Aussicht 24 \, Bad 
 Homburg\, Hessen\, 61348  \, Deutschland;X-APPLE-RADIUS=100;X-TITLE=Frauen
 bildungszentrum:geo:0,0
END:VEVENT
BEGIN:VTIMEZONE
TZID:Europe/Berlin
X-LIC-LOCATION:Europe/Berlin
BEGIN:DAYLIGHT
DTSTART:20230326T030000
TZOFFSETFROM:+0100
TZOFFSETTO:+0200
TZNAME:CEST
END:DAYLIGHT
END:VTIMEZONE
END:VCALENDAR