BEGIN:VCALENDAR
VERSION:2.0
PRODID:-//wp-events-plugin.com//7.2.3.1//EN
BEGIN:VEVENT
UID:560@frauenbildungszentrum.de
DTSTART;TZID=Europe/Berlin:20250212T190000
DTEND;TZID=Europe/Berlin:20250212T200000
DTSTAMP:20250211T153155Z
URL:https://www.frauenbildungszentrum.de/events/die-vorteile-einer-veganen
 -zucker-und-glutenfreien-ernaehrung
SUMMARY:Die Vorteile einer veganen\, zucker- und glutenfreien Ernährung
DESCRIPTION:„Fresh up your life“\n\nSind Sie bereit\, Ihre Ernährung z
 u verändern und Ihr Wohlbefinden zu steigern?\n\nAn diesem Abend sprechen
  wir über die spannenden Vorteile einer veganen\, zuckerfreien und gluten
 freien Ernährung. Wir werfen einen Blick auf die vielfältigen gesundheit
 lichen Vorteile dieser Ernährungsweise und wie sich diese positiv auf das
  Wohlbefinden auswirken kann. Erfahren Sie\, wie Sie Ihre Energie steigern
 \, das Immunsystem stärken und die Lebensqualität verbessern können\, i
 ndem Sie bewusste Ernährungsentscheidungen treffen.\n\nDieser Vortrag kan
 n als Einzelveranstaltung gebucht werden oder als Einstieg in die 6-wöchi
 ge Reise zu einer gesünderen Ernährung dienen.\n\nLeitung: Jennifer Buß
 meyer de Léon\n\nMittwoch\, 12. Februar 2025\n19.00 – 20.00 Uhr\n\n&nbs
 p\;\n\n251-07-019\n\n 
CATEGORIES:Februar,Gesundheit &amp; Selbsterfahrung
LOCATION:Frauenbildungszentrum\, Schöne Aussicht 24 \, Bad Homburg\, Hesse
 n\, 61348  \, Deutschland
X-APPLE-STRUCTURED-LOCATION;VALUE=URI;X-ADDRESS=Schöne Aussicht 24 \, Bad 
 Homburg\, Hessen\, 61348  \, Deutschland;X-APPLE-RADIUS=100;X-TITLE=Frauen
 bildungszentrum:geo:0,0
END:VEVENT
BEGIN:VTIMEZONE
TZID:Europe/Berlin
X-LIC-LOCATION:Europe/Berlin
BEGIN:STANDARD
DTSTART:20241027T020000
TZOFFSETFROM:+0200
TZOFFSETTO:+0100
TZNAME:CET
END:STANDARD
END:VTIMEZONE
END:VCALENDAR