BEGIN:VCALENDAR
VERSION:2.0
PRODID:-//wp-events-plugin.com//7.2.3.1//EN
BEGIN:VEVENT
UID:168@frauenbildungszentrum.de
DTSTART;TZID=Europe/Berlin:20230614T180000
DTEND;TZID=Europe/Berlin:20230614T193000
DTSTAMP:20230110T201412Z
URL:https://www.frauenbildungszentrum.de/events/die-mieterhoehung
SUMMARY:Die Mieterhöhung
DESCRIPTION:Vortrag für Vermietende und Mietende\nDer Vortrag richtet sich
  an alle\, die als Vermietende im Laufe eines bestehenden Mietverhältniss
 es die Miete erhöhen wollen bzw. als Mietende die Mieterhöhung von ihrem
  Vermieter bzw. ihrer Vermieterin erhalten.\nDie Erhöhung der Miete ist 
 über mehrere Wege möglich. Diese Möglichkeiten der Vermieterseite und O
 ptionen der Abwendung für die Mieter werden an diesem Abend vorgestellt.\
 nLeitung: Tanja Kolk\nBei detaillierten Fragen besteht die Möglichkeit\, 
 im Rahmen einer persönlichen Beratung Unterstützung zu erhalten.\nDieser
  Kurs wird für Frauen und Männer angeboten.\nMittwoch\, 14. Juni 2023\n1
 8.00 – 19.30 Uhr\n\n231-08-001
CATEGORIES:Juni,Recht
LOCATION:Frauenbildungszentrum\, Schöne Aussicht 24 \, Bad Homburg\, Hesse
 n\, 61348  \, Deutschland
X-APPLE-STRUCTURED-LOCATION;VALUE=URI;X-ADDRESS=Schöne Aussicht 24 \, Bad 
 Homburg\, Hessen\, 61348  \, Deutschland;X-APPLE-RADIUS=100;X-TITLE=Frauen
 bildungszentrum:geo:0,0
END:VEVENT
BEGIN:VTIMEZONE
TZID:Europe/Berlin
X-LIC-LOCATION:Europe/Berlin
BEGIN:DAYLIGHT
DTSTART:20230326T030000
TZOFFSETFROM:+0100
TZOFFSETTO:+0200
TZNAME:CEST
END:DAYLIGHT
END:VTIMEZONE
END:VCALENDAR