BEGIN:VCALENDAR
VERSION:2.0
PRODID:-//wp-events-plugin.com//7.2.3.1//EN
BEGIN:VEVENT
UID:558@frauenbildungszentrum.de
DTSTART;TZID=Europe/Berlin:20241122T180000
DTEND;TZID=Europe/Berlin:20241122T200000
DTSTAMP:20241121T091936Z
URL:https://www.frauenbildungszentrum.de/events/die-kraft-der-inneren-bild
 er
SUMMARY:Die Kraft der inneren Bilder
DESCRIPTION:Wie entstehen unsere inneren Bilder und woher kommen sie? Wie k
 önnen wir unsere inneren Bilder nutzen? Wie finden wir Zugang dazu und k
 önnen wir sie verändern?\n\nJeder Mensch hat sie\, meist sind sie uns ni
 cht bewusst. Ohne innere Bilder existiert kein Lebewesen\, wir leben aus d
 iesen Bildern. Manche unterstützen uns\, mit manchen stehen wir uns eher 
 im Weg.\n\nIch lade Sie ein\, sich mit mir auf eine innere Reise zu Ihren 
 Bildern zu begeben.\n\n&nbsp\;\nLeitung: Claudia Lange\nFreitag\, 22. Nove
 mber 2024\n18.00 – 20.00 Uhr\n\n&nbsp\;\n242-07-023
CATEGORIES:Gesundheit &amp; Selbsterfahrung,November
LOCATION:Frauenbildungszentrum\, Schöne Aussicht 24 \, Bad Homburg\, Hesse
 n\, 61348  \, Deutschland
X-APPLE-STRUCTURED-LOCATION;VALUE=URI;X-ADDRESS=Schöne Aussicht 24 \, Bad 
 Homburg\, Hessen\, 61348  \, Deutschland;X-APPLE-RADIUS=100;X-TITLE=Frauen
 bildungszentrum:geo:0,0
END:VEVENT
BEGIN:VTIMEZONE
TZID:Europe/Berlin
X-LIC-LOCATION:Europe/Berlin
BEGIN:STANDARD
DTSTART:20241027T020000
TZOFFSETFROM:+0200
TZOFFSETTO:+0100
TZNAME:CET
END:STANDARD
END:VTIMEZONE
END:VCALENDAR