BEGIN:VCALENDAR
VERSION:2.0
PRODID:-//wp-events-plugin.com//7.2.3.1//EN
BEGIN:VEVENT
UID:44@frauenbildungszentrum.de
DTSTART;TZID=Europe/Berlin:20230207T190000
DTEND;TZID=Europe/Berlin:20230228T210000
DTSTAMP:20230110T180709Z
URL:https://www.frauenbildungszentrum.de/events/der-schnelle-weg-zum-fotob
 uch
SUMMARY:Der schnelle Weg zum Fotobuch
DESCRIPTION:Voraussetzungen: PC- und Internet-Grundkenntnisse\nIm Workshop 
 erstellt jede Teilnehmerin ihr eigenes Fotobuch\, egal ob Kinderbilder\, J
 ahresrückblick\, Urlaubsfotos\, Hochzeit oder Familienalbum.\nDazu verwen
 den wir den Anbieter CEWE Fotobuch. Diese können Sie auch später zu Haus
 e auf dem eigenen PC verwenden.\nKursinhalte:\n\n\n 	Bilder sichten und so
 rtieren\n 	Bilder verkleinern\, zuschneiden und retuschieren\n 	Buchgestal
 tung\; Typografie (Schriften)\n 	Fertigstellung und Absenden\n\nLeitung: A
 ndrea Becker\n3 x Di.\, 07.02\, 14.02. und 28.02.2023\n\n19.00 – 21.00 U
 hr\n\nMindestteilnehmerinnenzahl: 4\n\n231-01-302
CATEGORIES:Computer Spezial,Februar,Kreatives
LOCATION:Frauenbildungszentrum\, Schöne Aussicht 24 \, Bad Homburg\, Hesse
 n\, 61348  \, Deutschland
X-APPLE-STRUCTURED-LOCATION;VALUE=URI;X-ADDRESS=Schöne Aussicht 24 \, Bad 
 Homburg\, Hessen\, 61348  \, Deutschland;X-APPLE-RADIUS=100;X-TITLE=Frauen
 bildungszentrum:geo:0,0
END:VEVENT
BEGIN:VTIMEZONE
TZID:Europe/Berlin
X-LIC-LOCATION:Europe/Berlin
BEGIN:STANDARD
DTSTART:20221030T020000
TZOFFSETFROM:+0200
TZOFFSETTO:+0100
TZNAME:CET
END:STANDARD
END:VTIMEZONE
END:VCALENDAR