BEGIN:VCALENDAR
VERSION:2.0
PRODID:-//wp-events-plugin.com//7.2.3.1//EN
BEGIN:VEVENT
UID:154@frauenbildungszentrum.de
DTSTART;TZID=Europe/Berlin:20230429T140000
DTEND;TZID=Europe/Berlin:20230429T180000
DTSTAMP:20230110T195839Z
URL:https://www.frauenbildungszentrum.de/events/der-etwas-andere-tanz-in-d
 en-mai-kreistanzworkshop
SUMMARY:Der etwas andere Tanz in den Mai – Kreistanzworkshop
DESCRIPTION:Walpurgis – Hexennacht – wilde Weiber?! Wir tanzen Freudent
 änze\, Hexentänze\, Tänze aus Lust und Laune\, im Kreis\, labyrinthisch
  und wild durcheinander. Die Tänze begrüßen den Frühling mit seiner ü
 berschwänglichen Blütenfülle\, klopfen bei Mutter Erde an\, um die Wach
 stumsenergien anzuregen und die Reste des Winterschlafs abzuschütteln.\nG
 etanzt werden einfache Tänze aus aller Frauen Länder\, die auf den kraft
 strotzenden Mai einstimmen und die feurigen Energien hervorlocken. Die Tä
 nze werden wiederholt\, deshalb ist der Workshop auch für Tanzanfängerin
 nen geeignet. Bitte bequeme Kleidung\, tanzgeeignete Schuhe\, eine Decke/K
 issen zum Sitzen\, genügend Getränke und evtl. etwas zum Essen mitbringe
 n.\nLeitung: Ulla Stier\nSamstag\, 29. April 2023\n\n14.00 – 18.00 Uhr\n
 \nMindestteilnehmerinnenzahl: 7\nIn der Kursgebühr ist GEMA enthalten.\n2
 31-04-122
CATEGORIES:April,Musik &amp; Tanz,Sport &amp; Bewegung
LOCATION:Bürgerhaus Kirdorf (Musikzimmer)\, Stedter Weg 40\, Bad Homburg\,
  Deutschland
X-APPLE-STRUCTURED-LOCATION;VALUE=URI;X-ADDRESS=Stedter Weg 40\, Bad Hombur
 g\, Deutschland;X-APPLE-RADIUS=100;X-TITLE=Bürgerhaus Kirdorf (Musikzimme
 r):geo:0,0
END:VEVENT
BEGIN:VTIMEZONE
TZID:Europe/Berlin
X-LIC-LOCATION:Europe/Berlin
BEGIN:DAYLIGHT
DTSTART:20230326T030000
TZOFFSETFROM:+0100
TZOFFSETTO:+0200
TZNAME:CEST
END:DAYLIGHT
END:VTIMEZONE
END:VCALENDAR