BEGIN:VCALENDAR
VERSION:2.0
PRODID:-//wp-events-plugin.com//7.2.3.1//EN
BEGIN:VEVENT
UID:70@frauenbildungszentrum.de
DTSTART;TZID=Europe/Berlin:20231113T180000
DTEND;TZID=Europe/Berlin:20231113T201500
DTSTAMP:20230630T153216Z
URL:https://www.frauenbildungszentrum.de/events/der-bessere-lebenslauf-2
SUMMARY:Der bessere Lebenslauf 2
DESCRIPTION:… und das überzeugende Anschreiben\nIhre aussagekräftigen B
 ewerbungsunterlagen sind Ihre „Eintrittskarte“ zum Vorstellungsgesprä
 ch. Wir klären in diesem Workshop\, wie man Lebenslauf und Anschreiben ze
 itgemäß formuliert und gestaltet\, was in Zeiten von Email\, Internet un
 d Jobportalen alles zu einer vollständigen Bewerbung gehört\, und welche
  Fehler sich ganz leicht vermeiden lassen.\nVorhandene (auch ältere) Bewe
 rbungsunterlagen wie Zeugnisse\, Lebensläufe und Anschreiben beziehen wir
  ein und erarbeiten daran konkrete Verbesserungen. Sofern Sie noch über k
 eine Unterlagen verfügen\, werden Sie aus dem Workshop die wichtigsten Te
 xt- und Gestaltungselemente für sich mitnehmen. Teil 2 des vierteiligen B
 ewerbungstrainings. Jedes Seminar können Sie auch einzeln buchen.\nKursle
 itung: Angelika Schaack\n\nEs entstehen Materialkosten in Höhe von € 3\
 ,--\, die direkt an die Referentin zu zahlen sind.\nMontag\, 13. November 
 2023\n\n18.00 – 20.15 Uhr\n\n&nbsp\;\n\n232-09-037\n\n \n\n&nbsp\;\n
CATEGORIES:Beruf &amp; Finanzen,November
LOCATION:Frauenbildungszentrum\, Schöne Aussicht 24 \, Bad Homburg\, Hesse
 n\, 61348  \, Deutschland
X-APPLE-STRUCTURED-LOCATION;VALUE=URI;X-ADDRESS=Schöne Aussicht 24 \, Bad 
 Homburg\, Hessen\, 61348  \, Deutschland;X-APPLE-RADIUS=100;X-TITLE=Frauen
 bildungszentrum:geo:0,0
END:VEVENT
BEGIN:VTIMEZONE
TZID:Europe/Berlin
X-LIC-LOCATION:Europe/Berlin
BEGIN:STANDARD
DTSTART:20231029T020000
TZOFFSETFROM:+0200
TZOFFSETTO:+0100
TZNAME:CET
END:STANDARD
END:VTIMEZONE
END:VCALENDAR