BEGIN:VCALENDAR
VERSION:2.0
PRODID:-//wp-events-plugin.com//7.2.3.1//EN
BEGIN:VEVENT
UID:841@frauenbildungszentrum.de
DTSTART;TZID=Europe/Berlin:20251120T180000
DTEND;TZID=Europe/Berlin:20251120T213000
DTSTAMP:20250715T123325Z
URL:https://www.frauenbildungszentrum.de/events/dein-stil-dein-look
SUMMARY:DEIN STIL – DEIN LOOK
DESCRIPTION:Entdecke deinen Kleiderschrank neu – mit Capsule Wardrobe &am
 p\; persönlichem Lookbook\nIn diesem inspirierenden Styling-Workshop in e
 iner kleinen Gruppe von 4 – 6 Frauen lernen Sie\, wie Sie Ihren Kleiders
 chrank neu entdecken und Ihren individuellen Stil entwickeln.\n\nDiese Inh
 alte erwarten Sie unter anderem im Workshop:\n\n 	Kleiderschrank-Check: An
 alysieren Sie Ihre vorhandene Garderobe und finden heraus\, welche Stücke
  wirklich zu Ihnen passen.\n 	Capsule Wardrobe: Lernen Sie das Prinzip der
  Capsule Wardrobe kennen und erfahren Sie\, wie Sie mit einer minimalistis
 chen Auswahl an Kleidungsstücken vielfältige Outfits für verschiedene A
 nlässe kreieren.\n 	Farbkombinationen: Farben stilsicher kombinieren.\n 	
 Wie starte ich mein persönliches Lookbook?\n 	Styling-Inspiration - das P
 rinzip „1 Teil – 3 Looks“: Bringen Sie 1 Lieblingsteil aus Ihrem Kle
 iderschrank mit (Saison Herbst / Winter) und wir schauen uns gemeinsam an\
 , welche 3 Looks Sie daraus kreieren können.\n\nAußerdem erhalten Sie we
 rtvolle Insider-Tipps von mir und meiner Arbeit als Personal Stylistin und
  entwickeln ein besseres Verständnis für Ihren persönlichen Stil. Am En
 de des Workshops gehen Sie mit neuen Ideen\, einem klaren Konzept für Ihr
 e Garderobe und Ihrem Workbook nach Hause.\n\n( Die Kosten für das Workbo
 ok im Wert von € 10\,-- sind in der Kursgebühr enthalten.)\n\nDieser Ku
 rs wird in Kooperation mit der Katholischen Erwachsenenbildung\, Bildungsw
 erk Hochtaunus angeboten.\nLeitung: Sandra Wunsch\nDo.\, 20. November 2025
 \n18.00 – 21.30 Uhr\n252-06-003
CATEGORIES:Kreatives,November
LOCATION:Frauenbildungszentrum\, Schöne Aussicht 24 \, Bad Homburg\, Hesse
 n\, 61348  \, Deutschland
X-APPLE-STRUCTURED-LOCATION;VALUE=URI;X-ADDRESS=Schöne Aussicht 24 \, Bad 
 Homburg\, Hessen\, 61348  \, Deutschland;X-APPLE-RADIUS=100;X-TITLE=Frauen
 bildungszentrum:geo:0,0
END:VEVENT
BEGIN:VTIMEZONE
TZID:Europe/Berlin
X-LIC-LOCATION:Europe/Berlin
BEGIN:STANDARD
DTSTART:20251026T020000
TZOFFSETFROM:+0200
TZOFFSETTO:+0100
TZNAME:CET
END:STANDARD
END:VTIMEZONE
END:VCALENDAR