BEGIN:VCALENDAR
VERSION:2.0
PRODID:-//wp-events-plugin.com//7.2.3.1//EN
BEGIN:VEVENT
UID:161@frauenbildungszentrum.de
DTSTART;TZID=Europe/Berlin:20230318T140000
DTEND;TZID=Europe/Berlin:20230318T170000
DTSTAMP:20230110T193611Z
URL:https://www.frauenbildungszentrum.de/events/das-immunsystem-staerken-o
 nline
SUMMARY:Das Immunsystem stärken – Online
DESCRIPTION:Workshop mit Yogaeinheiten und Mediation\nIn diesem Online-Work
 shop schauen wir uns den natürlichen Aufbau unseres Immunsystems an. Wir 
 erfahren\, wie wir diese mit Hilfe von Ernährung und Bewegung durch Yogae
 inheiten und Atmung sowie mit einer Meditation unterstützen können. Yoga
 kenntnisse sind nicht erforderlich.\nWas benötigst Du: Eine stabile Inter
 netverbindung\, einen Computer/Laptop mit Kamera\, bequeme Kleidung\, Yoga
 matte\, Kissen\, Decke\, Yogablöcke (falls nicht vorhanden\, dickes Buch)
 \, Yoga Gurt oder Gürtel\, Schreibmaterialien\nLeitung: Michaela Kauertz\
 nSamstag\, 18. März 2023\n\n14.00 – 17.00 Uhr\n231-07-027
CATEGORIES:Gesundheit &amp; Selbsterfahrung,März
LOCATION:#
END:VEVENT
BEGIN:VTIMEZONE
TZID:Europe/Berlin
X-LIC-LOCATION:Europe/Berlin
BEGIN:STANDARD
DTSTART:20221030T020000
TZOFFSETFROM:+0200
TZOFFSETTO:+0100
TZNAME:CET
END:STANDARD
END:VTIMEZONE
END:VCALENDAR