BEGIN:VCALENDAR
VERSION:2.0
PRODID:-//wp-events-plugin.com//7.2.3.1//EN
BEGIN:VEVENT
UID:2@frauenbildungszentrum.de
DTSTART;TZID=Europe/Berlin:20230308T093000
DTEND;TZID=Europe/Berlin:20230315T123000
DTSTAMP:20230110T171912Z
URL:https://www.frauenbildungszentrum.de/events/computer-schnupperkurs-fue
 r-seniorinnen
SUMMARY:Computer-Schnupperkurs für Seniorinnen
DESCRIPTION:Auch für Interessentinnen\, die einen Anfängerkurs suchen.\nV
 oraussetzungen: Keine\nUnter dem Motto „mehr Zeit zum Lernen“ bieten w
 ir hier für Seniorinnen\, die Lust haben sich mit den neuen Techniken ver
 traut zu machen\, eine Einführung in das Arbeiten mit dem Computer.\nIn e
 iner kleinen Gruppe lernen Sie bei uns im gemäßigten Arbeitstempo umfass
 end erste Arbeitstechniken:\n\n\n 	Mausbedienung und Fenstertechnik\n 	ein
 en kleinen Text schreiben oder ein Bild malen\, speichern und wiederfinden
 \n 	erstes Ausdrucken\n\nLeitung: Edith Kempf-Schindler\; \n4 x Mi.\, 08.0
 3. – 29.03.2023\n\n09.30 – 12.30 Uhr\n\nMindestteilnehmerinnenzahl: 4\
 n\n231-02-101
CATEGORIES:Computer &amp; Handy 60+,Computerkurse,März
LOCATION:Frauenbildungszentrum\, Schöne Aussicht 24 \, Bad Homburg\, Hesse
 n\, 61348  \, Deutschland
X-APPLE-STRUCTURED-LOCATION;VALUE=URI;X-ADDRESS=Schöne Aussicht 24 \, Bad 
 Homburg\, Hessen\, 61348  \, Deutschland;X-APPLE-RADIUS=100;X-TITLE=Frauen
 bildungszentrum:geo:0,0
END:VEVENT
BEGIN:VTIMEZONE
TZID:Europe/Berlin
X-LIC-LOCATION:Europe/Berlin
BEGIN:STANDARD
DTSTART:20221030T020000
TZOFFSETFROM:+0200
TZOFFSETTO:+0100
TZNAME:CET
END:STANDARD
END:VTIMEZONE
END:VCALENDAR