BEGIN:VCALENDAR
VERSION:2.0
PRODID:-//wp-events-plugin.com//7.2.3.1//EN
BEGIN:VEVENT
UID:378@frauenbildungszentrum.de
DTSTART;TZID=Europe/Berlin:20260304T093000
DTEND;TZID=Europe/Berlin:20260401T123000
DTSTAMP:20251210T110918Z
URL:https://www.frauenbildungszentrum.de/events/computer-basiskurs-fuer-se
 niorinnen
SUMMARY:Computer-Basiskurs für Seniorinnen
DESCRIPTION:Voraussetzungen: Keine\nEin Kurs für alle Interessentinnen\, d
 ie einen Einstieg in das Arbeiten mit dem Computer und das Betriebssystem 
 Windows suchen.\nBei uns lernen Sie im gemäßigten Arbeitstempo umfassend
  erste Arbeitstechniken:\n\n\n 	Mausbedienung\n 	Fenstertechnik\n 	einen k
 leinen Text schreiben oder ein Bild malen\,\n 	speichern und wiederfinden\
 n 	erstes Ausdrucken\n\nAnschließend werden die erworbenen Kenntnisse ver
 tieft mit Übungen zu:\n\n\n 	Dateien löschen\, verschieben und kopieren\
 n 	Ordner anlegen\n 	Arbeit mit anderen Datenträgern\, wie z.B. USB-Stick
 s\n\n&nbsp\;\nLeitung: Edith Kempf-Schindler \n5 x Mi.\, 04.03. – 01.04
 .2026\n09.30 – 12.30 Uhr\nMindestteilnehmerinnenzahl: 4\n\n&nbsp\;\n\n&n
 bsp\;\n\n261-02-101\n\n 
CATEGORIES:Computer &amp; Handy 60+,Computerkurse,März
LOCATION:Frauenbildungszentrum\, Schöne Aussicht 24 \, Bad Homburg\, Hesse
 n\, 61348  \, Deutschland
X-APPLE-STRUCTURED-LOCATION;VALUE=URI;X-ADDRESS=Schöne Aussicht 24 \, Bad 
 Homburg\, Hessen\, 61348  \, Deutschland;X-APPLE-RADIUS=100;X-TITLE=Frauen
 bildungszentrum:geo:0,0
END:VEVENT
BEGIN:VTIMEZONE
TZID:Europe/Berlin
X-LIC-LOCATION:Europe/Berlin
BEGIN:STANDARD
DTSTART:20251026T020000
TZOFFSETFROM:+0200
TZOFFSETTO:+0100
TZNAME:CET
END:STANDARD
BEGIN:DAYLIGHT
DTSTART:20260329T030000
TZOFFSETFROM:+0100
TZOFFSETTO:+0200
TZNAME:CEST
END:DAYLIGHT
END:VTIMEZONE
END:VCALENDAR