BEGIN:VCALENDAR
VERSION:2.0
PRODID:-//wp-events-plugin.com//7.2.3.1//EN
BEGIN:VEVENT
UID:551@frauenbildungszentrum.de
DTSTART;TZID=Europe/Berlin:20241202T100000
DTEND;TZID=Europe/Berlin:20241205T133000
DTSTAMP:20240723T141105Z
URL:https://www.frauenbildungszentrum.de/events/computer-basiskurs-fuer-se
 niorinnen-kompakt
SUMMARY:Computer-Basiskurs für Seniorinnen\, kompakt
DESCRIPTION:Voraussetzungen: Keine\nEin Kurs für alle Interessentinnen\, d
 ie einen Einstieg in das Arbeiten mit dem Computer und das Betriebssystem 
 Windows suchen.\nBei uns lernen Sie im gemäßigten Arbeitstempo umfassend
  erste Arbeitstechniken:\n\n\n 	Mausbedienung\n 	Fenstertechnik\n 	einen k
 leinen Text schreiben oder ein Bild malen\,\n 	speichern und wiederfinden\
 n 	erstes Ausdrucken\n\nAnschließend werden die erworbenen Kenntnisse ver
 tieft mit Übungen zu:\n\n\n 	Dateien löschen\, verschieben und kopieren\
 n 	Ordner anlegen\n 	Arbeit mit anderen Datenträgern\, wie z.B. USB-Stick
 s\n\n&nbsp\;\nLeitung: Birgit Henrici\n4 x Mo. – Do.\, 02. – 05.12.202
 4\n\n10.00 – 13.30 Uhr\n\n&nbsp\;\n\nMindestteilnehmerinnenzahl: 4\n\n&n
 bsp\;\n\n242-02-102\n\n \n\n 
CATEGORIES:Computer &amp; Handy 60+,Computerkurse,Dezember
LOCATION:Frauenbildungszentrum\, Schöne Aussicht 24 \, Bad Homburg\, Hesse
 n\, 61348  \, Deutschland
X-APPLE-STRUCTURED-LOCATION;VALUE=URI;X-ADDRESS=Schöne Aussicht 24 \, Bad 
 Homburg\, Hessen\, 61348  \, Deutschland;X-APPLE-RADIUS=100;X-TITLE=Frauen
 bildungszentrum:geo:0,0
END:VEVENT
BEGIN:VTIMEZONE
TZID:Europe/Berlin
X-LIC-LOCATION:Europe/Berlin
BEGIN:STANDARD
DTSTART:20241027T020000
TZOFFSETFROM:+0200
TZOFFSETTO:+0100
TZNAME:CET
END:STANDARD
END:VTIMEZONE
END:VCALENDAR