BEGIN:VCALENDAR
VERSION:2.0
PRODID:-//wp-events-plugin.com//7.2.3.1//EN
BEGIN:VEVENT
UID:169@frauenbildungszentrum.de
DTSTART;TZID=Europe/Berlin:20251213T170000
DTEND;TZID=Europe/Berlin:20251213T190000
DTSTAMP:20250709T125116Z
URL:https://www.frauenbildungszentrum.de/events/chor-konzert
SUMMARY:Adventskonzert
DESCRIPTION:In Kooperation mit der Musikschule Friedrichsdorf laden Sie gan
 z herzlich ein zum\nAdventskonzert\nam Samstag\, 13. Dezember 2025\num 17.
 00 Uhr\nin die Ev. Gedächtniskirche\nWeberstraße 16\, \nBad Homburg-Kird
 orf\n\nDieses Jahr ist es wieder soweit: Die Frauenchöre Bad Homburger Ha
 rmonixen“ des Frauenbildungszentrums und „Moving voices“ der Musiksc
 hule Friedrichsdorf\, beide unter der Leitung von Lisa Wendel\, bringen mi
 t ihrem Gesang vorweihnachtliche Stimmung in die Gedächtniskirche.\n\nEin
 e Mischung aus winterlichen\, stimmungsvollen und besinnlichen Liedern und
  bekannten Weihnachtssongs sollen Ruhe\, Besinnlichkeit\, sowie Vorfreude 
 auf Weihnachten in die mit Hektik verbundene Vorweihnachtszeit schenken.\n
 \nDer Eintritt ist frei. Spenden willkommen.
CATEGORIES:Dezember,Musik &amp; Tanz,Veranstaltungen
LOCATION:Ev. Gedächtniskirche\, Weberstraße 16\,\, Bad Homburg-Kirdorf\, 
 Deutschland
X-APPLE-STRUCTURED-LOCATION;VALUE=URI;X-ADDRESS=Weberstraße 16\,\, Bad Hom
 burg-Kirdorf\, Deutschland;X-APPLE-RADIUS=100;X-TITLE=Ev. Gedächtniskirch
 e:geo:0,0
END:VEVENT
BEGIN:VTIMEZONE
TZID:Europe/Berlin
X-LIC-LOCATION:Europe/Berlin
BEGIN:STANDARD
DTSTART:20251026T020000
TZOFFSETFROM:+0200
TZOFFSETTO:+0100
TZNAME:CET
END:STANDARD
END:VTIMEZONE
END:VCALENDAR