BEGIN:VCALENDAR
VERSION:2.0
PRODID:-//wp-events-plugin.com//7.2.3.1//EN
BEGIN:VEVENT
UID:563@frauenbildungszentrum.de
DTSTART;TZID=Europe/Berlin:20241108T000000
DTEND;TZID=Europe/Berlin:20241109T000000
DTSTAMP:20240701T151347Z
URL:https://www.frauenbildungszentrum.de/events/chakrenlehre-und-die-heils
 ame-kraft-des-handauflegens
SUMMARY:Chakrenlehre und die heilsame Kraft des Handauflegens
DESCRIPTION:Chakren sind die Energiezentren in unserem Körper. Sind diese 
 blockiert\, kann es zu Müdigkeit oder Erschöpfung bis hin zu Erkrankunge
 n führen.\n\nMit Hilfe von Meditation und einer kleinen Reise durch den K
 örper werden wir versuchen\, diese Blockaden wahrzunehmen und die Verbind
 ung zu den entsprechenden Organen kennenzulernen.\n\nIn einem weiteren Sch
 ritt wollen wir die uralte Kraft des Handauflegens nutzen und erfahren die
  wohltuende Wirkung bei uns selbst und auch bei unserem Gegenüber.\n\n&nb
 sp\;\nLeitung: Gabriele Dingel\nFreitag\, 8. November 2024\n18.00 – 20.0
 0 Uhr\nSamstag\, 9. November 2024\n11.00 – 16.00 Uhr\nMindestteilnehmeri
 nnenzahl: 4\n\n&nbsp\;\n\n242-07-006\n 
CATEGORIES:Gesundheit &amp; Selbsterfahrung,November
LOCATION:Raum für Lebensenergie\, Fasanenstr. 16\, Bad Homburg\, 61352\, D
 eutschland
X-APPLE-STRUCTURED-LOCATION;VALUE=URI;X-ADDRESS=Fasanenstr. 16\, Bad Hombur
 g\, 61352\, Deutschland;X-APPLE-RADIUS=100;X-TITLE=Raum für Lebensenergie
 :geo:0,0
END:VEVENT
BEGIN:VTIMEZONE
TZID:Europe/Berlin
X-LIC-LOCATION:Europe/Berlin
BEGIN:STANDARD
DTSTART:20241027T020000
TZOFFSETFROM:+0200
TZOFFSETTO:+0100
TZNAME:CET
END:STANDARD
END:VTIMEZONE
END:VCALENDAR