BEGIN:VCALENDAR
VERSION:2.0
PRODID:-//wp-events-plugin.com//7.2.3.1//EN
BEGIN:VEVENT
UID:139@frauenbildungszentrum.de
DTSTART;TZID=Europe/Berlin:20230930T100000
DTEND;TZID=Europe/Berlin:20230930T130000
DTSTAMP:20230714T131140Z
URL:https://www.frauenbildungszentrum.de/events/buehnencoaching
SUMMARY:Bühnencoaching
DESCRIPTION:Der richtige Auftritt vor Publikum\nEin Auftritt auf der „Bü
 hne" vor Publikum ist aufregend. Eine vorhandene Unsicherheit wird noch ve
 rstärkt\, wenn man nicht weiß\, welchen Platz man auf der Bühne hat und
  welche „Rolle" man eventuell einnimmt oder einnehmen muss. Der Workshop
  richtet sich an Frauen\, die vor einem Publikum\, und sei es noch so klei
 n\, auftreten müssen. Dafür ist keine richtige Bühne im eigentlichen Si
 nne nötig. Es kann sich um jegliche Auftrittssituation handeln\; vor dem 
 Kollegium\, bei einer Feier oder tatsächlich ein Auftritt auf einer richt
 igen Bühne.\nDer Bühnencoaching-Workshop hilft mit ein wenig Theorie und
  praktischen Übungen zu klären\, was Bühnenpräsenz überhaupt bedeutet
 . Sich die eigene Bühnenpersönlichkeit bewusst zu machen\, den Ansatz ei
 ner Rolle zu finden und gegebenenfalls Routine zu erkennen und abzulegen.\
 nDie Workshopleiterin hat Theaterwissenschaft an der Universität Mainz st
 udiert\, außerdem ist sie ausgebildete Sängerin und tritt regelmäßig m
 it verschiedenen Formationen auf.\nLeitung: Lisa Wendel\nSamstag\, 30. Sep
 tember 2023\n10.00 – 13.00 Uhr\n\n&nbsp\;\n232-12-106
CATEGORIES:September,Veranstaltungen
LOCATION:Frauenbildungszentrum\, Schöne Aussicht 24 \, Bad Homburg\, Hesse
 n\, 61348  \, Deutschland
X-APPLE-STRUCTURED-LOCATION;VALUE=URI;X-ADDRESS=Schöne Aussicht 24 \, Bad 
 Homburg\, Hessen\, 61348  \, Deutschland;X-APPLE-RADIUS=100;X-TITLE=Frauen
 bildungszentrum:geo:0,0
END:VEVENT
BEGIN:VTIMEZONE
TZID:Europe/Berlin
X-LIC-LOCATION:Europe/Berlin
BEGIN:DAYLIGHT
DTSTART:20230326T030000
TZOFFSETFROM:+0100
TZOFFSETTO:+0200
TZNAME:CEST
END:DAYLIGHT
END:VTIMEZONE
END:VCALENDAR