BEGIN:VCALENDAR
VERSION:2.0
PRODID:-//wp-events-plugin.com//7.2.3.1//EN
BEGIN:VEVENT
UID:115@frauenbildungszentrum.de
DTSTART;TZID=Europe/Berlin:20260319T170000
DTEND;TZID=Europe/Berlin:20260319T183000
DTSTAMP:20251212T094059Z
URL:https://www.frauenbildungszentrum.de/events/breathwalk
SUMMARY:BreathWalk
DESCRIPTION:Atmen und Gehen – Yoga-Walking – Naturerlebnis\nDas bewusst
 e Atmen beim BreathWalk kann verschiedene Bereiche unseres Körpers und un
 seres Geistes in Einklang bringen und positive Veränderungen hervorrufen.
  Breath-Walk ist mit seiner Kombination von bewusster Atmung\, Meditation\
 , Laufen und Yoga eine Quelle der Vitalität.\nVerschiedene Atemmuster wer
 den vorgestellt und helfen uns\, gedanklich loszulassen und zu zentrieren.
  Es werden die Balance und Klarheit gefördert. Tragen Sie bitte bequeme S
 chuhe und für das Wetter passende Kleidung und bringen eine kleine Wasser
 flasche mit.\nLeitung: Heike Neidhardt\nDonnerstag\, 19. März 2026\n17.00
  – 18.30 Uhr\n\n&nbsp\;\n\nTreffpunkt: Am Elisabethenbrunnen\n261-05-914
CATEGORIES:Gesundheit &amp; Selbsterfahrung,März,Sport &amp; Bewegung
LOCATION:Kurpark\, Eingang Augustaallee\, Augustaallee\, Bad Homburg\, Deut
 schland
X-APPLE-STRUCTURED-LOCATION;VALUE=URI;X-ADDRESS=Augustaallee\, Bad Homburg\
 , Deutschland;X-APPLE-RADIUS=100;X-TITLE=Kurpark\, Eingang Augustaallee:ge
 o:0,0
END:VEVENT
BEGIN:VTIMEZONE
TZID:Europe/Berlin
X-LIC-LOCATION:Europe/Berlin
BEGIN:STANDARD
DTSTART:20251026T020000
TZOFFSETFROM:+0200
TZOFFSETTO:+0100
TZNAME:CET
END:STANDARD
END:VTIMEZONE
END:VCALENDAR