BEGIN:VCALENDAR
VERSION:2.0
PRODID:-//wp-events-plugin.com//7.2.3.1//EN
BEGIN:VEVENT
UID:78@frauenbildungszentrum.de
DTSTART;TZID=Europe/Berlin:20231020T180000
DTEND;TZID=Europe/Berlin:20231027T210000
DTSTAMP:20230704T134848Z
URL:https://www.frauenbildungszentrum.de/events/betriebssystem-windows-der
 -explorer
SUMMARY:Betriebssystem – Windows – der Explorer
DESCRIPTION:Voraussetzungen: Einführungskurs oder vergleichbare Grundkennt
 nisse\nDieser Kurs vermittelt grundlegende Techniken im Umgang mit Windows
 \, um gespeicherte Dateien besser wieder zu finden und endlich Ordnung auf
  dem PC zu schaffen.\nDer Windows-Explorer:\n\n 	Ordner und Unterordner an
 legen\n 	Ordner und Dateien verwalten\, suchen\, kopieren\, verschieben\, 
 umbenennen und löschen\n 	Praktische Übungen dazu\n\nLeitung: Stefanie F
 ischer\n\nMindestteilnehmerinnenzahl: 3\n\n2 x Fr.\, 20.10. – 27.10.2023
 \n18.00 – 21.00 Uhr\n\n232-01-101
CATEGORIES:Computerkurse,Oktober
LOCATION:Frauenbildungszentrum\, Schöne Aussicht 24 \, Bad Homburg\, Hesse
 n\, 61348  \, Deutschland
X-APPLE-STRUCTURED-LOCATION;VALUE=URI;X-ADDRESS=Schöne Aussicht 24 \, Bad 
 Homburg\, Hessen\, 61348  \, Deutschland;X-APPLE-RADIUS=100;X-TITLE=Frauen
 bildungszentrum:geo:0,0
END:VEVENT
BEGIN:VTIMEZONE
TZID:Europe/Berlin
X-LIC-LOCATION:Europe/Berlin
BEGIN:DAYLIGHT
DTSTART:20230326T030000
TZOFFSETFROM:+0100
TZOFFSETTO:+0200
TZNAME:CEST
END:DAYLIGHT
END:VTIMEZONE
END:VCALENDAR