BEGIN:VCALENDAR
VERSION:2.0
PRODID:-//wp-events-plugin.com//7.2.3.1//EN
BEGIN:VEVENT
UID:554@frauenbildungszentrum.de
DTSTART;TZID=Europe/Berlin:20241031T190000
DTEND;TZID=Europe/Berlin:20241031T203000
DTSTAMP:20240628T142508Z
URL:https://www.frauenbildungszentrum.de/events/beinwellsalbe-selbst-herst
 ellen
SUMMARY:Beinwellsalbe selbst herstellen
DESCRIPTION:Hilfe bei Muskelschmerzen\n\nDie Heilpflanze Beinwell (auch gem
 einer Wallwurz genannt) wurde bereits im Mittelalter zur Wundheilung und s
 ogar bei Knochenbrüchen verwendet.\n\nAuch heute noch wird die Pflanze zu
 r unterstützenden Behandlung bei Muskel- und Gelenkschmerzen\, sowie Prel
 lungen\, Zerrungen und Verstauchungen eingesetzt. Positive Effekte werden 
 auch bei rheumatischen Beschwerden gemeldet.\n\nAn diesem Abend wollen wir
  uns eine Salbe aus der Beinwellwurzel (Symphitum officinale) zum Eigengeb
 rauch herstellen. Das Rezept für Zuhause gibt es dazu.\n\n&nbsp\;\nLeitun
 g: Juliane Bergmann\n( Es entstehen Materialkosten in Höhe von € 4\,--\
 , die direkt an die Referentin zu zahlen sind. )\nDonnerstag\, 31. Oktober
  2024\n\n19.00 – 20.30 Uhr\n\n242-07-027\n 
CATEGORIES:Gesundheit &amp; Selbsterfahrung,Oktober
LOCATION:Frauenbildungszentrum\, Schöne Aussicht 24 \, Bad Homburg\, Hesse
 n\, 61348  \, Deutschland
X-APPLE-STRUCTURED-LOCATION;VALUE=URI;X-ADDRESS=Schöne Aussicht 24 \, Bad 
 Homburg\, Hessen\, 61348  \, Deutschland;X-APPLE-RADIUS=100;X-TITLE=Frauen
 bildungszentrum:geo:0,0
END:VEVENT
BEGIN:VTIMEZONE
TZID:Europe/Berlin
X-LIC-LOCATION:Europe/Berlin
BEGIN:STANDARD
DTSTART:20241027T020000
TZOFFSETFROM:+0200
TZOFFSETTO:+0100
TZNAME:CET
END:STANDARD
END:VTIMEZONE
END:VCALENDAR