BEGIN:VCALENDAR
VERSION:2.0
PRODID:-//wp-events-plugin.com//7.2.3.1//EN
BEGIN:VEVENT
UID:557@frauenbildungszentrum.de
DTSTART;TZID=Europe/Berlin:20241126T193000
DTEND;TZID=Europe/Berlin:20241126T210000
DTSTAMP:20241121T092014Z
URL:https://www.frauenbildungszentrum.de/events/beenden-wir-den-krieg-in-d
 er-sprache-interaktive-lesung
SUMMARY:Beenden wir den Krieg in der Sprache –  interaktive Lesung
DESCRIPTION:Bombenstimmung\, Papierkrieg\, Schlachtplan\n\nKriege haben deu
 tliche Spuren in unserer Alltagssprache hinterlassen. Sie steckt voller Kr
 iegsvokabular und militärischer Ausdrücke: Wir haben Angriffe aufeinande
 r vor\, kämpfen an vielen Fronten und kriegen das alles schon hin.\n\nDie
 se Lesung bringt im interaktiven Austausch die verwendete Sprache\, innere
  Bilder\, die Kraft der Gedanken und Gefühle in einen Zusammenhang.\n\nDe
 r gemeinsame Abend lädt zum Nachdenken ein und zeigt Ideen auf\, wie durc
 h aufbauende Denk- und Sprachmuster der innere Frieden gestärkt und die e
 igene Lebensqualität verbessert werden kann.\n\n&nbsp\;\n\n&nbsp\;\n\nLei
 tung: Saskia Baisch-Zimmer\n\nDienstag\, 26. November 2024\n19.30 – 21.0
 0 Uhr\n\nDieser Kurs wird in Kooperation mit der Katholischen Erwachsenenb
 ildung\, Bildungswerk Hochtaunus angeboten.\n242-07-024\n \n\n 
CATEGORIES:Gesundheit &amp; Selbsterfahrung,November
LOCATION:Frauenbildungszentrum\, Schöne Aussicht 24 \, Bad Homburg\, Hesse
 n\, 61348  \, Deutschland
X-APPLE-STRUCTURED-LOCATION;VALUE=URI;X-ADDRESS=Schöne Aussicht 24 \, Bad 
 Homburg\, Hessen\, 61348  \, Deutschland;X-APPLE-RADIUS=100;X-TITLE=Frauen
 bildungszentrum:geo:0,0
END:VEVENT
BEGIN:VTIMEZONE
TZID:Europe/Berlin
X-LIC-LOCATION:Europe/Berlin
BEGIN:STANDARD
DTSTART:20241027T020000
TZOFFSETFROM:+0200
TZOFFSETTO:+0100
TZNAME:CET
END:STANDARD
END:VTIMEZONE
END:VCALENDAR