BEGIN:VCALENDAR
VERSION:2.0
PRODID:-//wp-events-plugin.com//7.2.3.1//EN
BEGIN:VEVENT
UID:81@frauenbildungszentrum.de
DTSTART;TZID=Europe/Berlin:20250818T190000
DTEND;TZID=Europe/Berlin:20251222T203000
DTSTAMP:20250711T110755Z
URL:https://www.frauenbildungszentrum.de/events/bad-homburger-harmonixen
SUMMARY:„Bad Homburger HARMONIXEN“ Chor
DESCRIPTION:Chorgemeinschaft des Frauenbildungszentrums\nUnser Chor freut s
 ich über Verstärkung.\nUnser Repertoire umfasst alles von Rock und Pop b
 is hin zu Jazzklassikern.\nWenn Sie Spaß am Singen haben\, können Sie na
 ch vorheriger Absprache an einem Probeabend teilnehmen. Sicher werden Sie 
 dann weiter mit uns singen wollen. Vorkenntnisse sind nicht erforderlich.\
 nDie Chorproben finden jeweils montags statt\, außer an Feiertagen und in
  den Schulferien. Der erste Probentermin im neuen Semester ist am 18. Augu
 st 2025\nEin Einstieg ist jederzeit möglich.\nLeitung: Lisa Wendel\nJeden
  Montag\n\n19.00 – 20.30 Uhr\n999-04-301
CATEGORIES:April,August,Dezember,Februar,Januar,Juli,Juni,Mai,März,Musik
 &amp; Tanz,November,Oktober,September,Veranstaltungen
LOCATION:Bürgerhaus Kirdorf (Musikzimmer)\, Stedter Weg 40\, Bad Homburg\,
  Deutschland
X-APPLE-STRUCTURED-LOCATION;VALUE=URI;X-ADDRESS=Stedter Weg 40\, Bad Hombur
 g\, Deutschland;X-APPLE-RADIUS=100;X-TITLE=Bürgerhaus Kirdorf (Musikzimme
 r):geo:0,0
END:VEVENT
BEGIN:VTIMEZONE
TZID:Europe/Berlin
X-LIC-LOCATION:Europe/Berlin
BEGIN:DAYLIGHT
DTSTART:20250330T030000
TZOFFSETFROM:+0100
TZOFFSETTO:+0200
TZNAME:CEST
END:DAYLIGHT
BEGIN:STANDARD
DTSTART:20251026T020000
TZOFFSETFROM:+0200
TZOFFSETTO:+0100
TZNAME:CET
END:STANDARD
END:VTIMEZONE
END:VCALENDAR