BEGIN:VCALENDAR
VERSION:2.0
PRODID:-//wp-events-plugin.com//7.2.3.1//EN
BEGIN:VEVENT
UID:403@frauenbildungszentrum.de
DTSTART;TZID=Europe/Berlin:20240202T093000
DTEND;TZID=Europe/Berlin:20240223T103000
DTSTAMP:20231213T112536Z
URL:https://www.frauenbildungszentrum.de/events/babys-in-bewegung-kleingru
 ppe-1
SUMMARY:Babys in Bewegung – Kleingruppe 1
DESCRIPTION:Für Babys im Alter von 3 – 5 Monaten\nDie frühkindliche Ent
 wicklung und deren Förderung ist von Beginn an ein sehr wichtiges Thema.\
 nDaher möchte ich Eltern mit meinen Kursen "Babys in Bewegung mit allen S
 innen" näherbringen\, wie sie ihre Babys dabei bestmöglich unterstützen
  können.\nZiel des Kurses ist es\, die Babys in ihren Entwicklungsphasen 
 zu begleiten und sie durch ein vielfältiges Angebot an Bewegungsübungen\
 , Babymassage sowie Spiel-und Sinnesanregungen bestmöglich zu unterstütz
 en. Denn die Babys erobern sich über Bewegung und Sinneswahrnehmung die W
 elt.\nBitte bringen Sie eine Matte\, ein kleines Handtuch\, eine Spuckwind
 el\, Pampers\, evtl. Flaschennahrung und ein Lieblingsspielzeug Ihres Kind
 es mit.\nLeitung: Stefanie Kraus-Cormier\n4 x Fr.\, 02.02. – 23.02.2024\
 n09.30 – 10.30 Uhr\nMindestteilnehmerzahl: 3 Paare\n\n&nbsp\;\n\n241-07-
 101\n\n 
CATEGORIES:Februar,Gesundheit &amp; Selbsterfahrung,Kinder &amp;
 Jugendliche
LOCATION:Frauenbildungszentrum\, Schöne Aussicht 24 \, Bad Homburg\, Hesse
 n\, 61348  \, Deutschland
X-APPLE-STRUCTURED-LOCATION;VALUE=URI;X-ADDRESS=Schöne Aussicht 24 \, Bad 
 Homburg\, Hessen\, 61348  \, Deutschland;X-APPLE-RADIUS=100;X-TITLE=Frauen
 bildungszentrum:geo:0,0
END:VEVENT
BEGIN:VTIMEZONE
TZID:Europe/Berlin
X-LIC-LOCATION:Europe/Berlin
BEGIN:STANDARD
DTSTART:20231029T020000
TZOFFSETFROM:+0200
TZOFFSETTO:+0100
TZNAME:CET
END:STANDARD
END:VTIMEZONE
END:VCALENDAR