BEGIN:VCALENDAR
VERSION:2.0
PRODID:-//wp-events-plugin.com//7.2.3.1//EN
BEGIN:VEVENT
UID:396@frauenbildungszentrum.de
DTSTART;TZID=Europe/Berlin:20231101T094500
DTEND;TZID=Europe/Berlin:20231213T104500
DTSTAMP:20230714T142153Z
URL:https://www.frauenbildungszentrum.de/events/aus-dem-becken-kommt-die-k
 raft-die-aviva-methode-2
SUMMARY:Aus dem Becken kommt die Kraft – die Aviva-Methode
DESCRIPTION:Die Aviva-Methode von Aviva G. Steiner ist eine wirkungsvolle u
 nd tiefgreifende Möglichkeit an unserer Gesundheit zu arbeiten.\n\nDie Ü
 bungen basieren auf rhythmischer Gymnastik\, Yoga- und Beckenbodenübungen
  und sind einfach zu erlernen. Sie unterscheiden sich vom klassischen Beck
 enbodentraining dadurch\, dass sie dynamischer und rhythmischer sind und s
 ich auf die Auswirkungen auf den Hormonhaushalt konzentrieren.\n\nDurch di
 e Belebung der gesamten Beckenregion können wir die natürlichen Hormonab
 läufe aktiv beeinflussen und somit unsere körperliche und seelische Gesu
 ndheit in die eigenen Hände nehmen. Durch regelmäßiges\, selbständiges
  Üben zuhause lassen sich u.a. Probleme in den Wechseljahren\, Menstruati
 onsbeschwerden\, Verdauungsbeschwerden oder Haltungsbeschwerden positiv be
 einflussen.\n\n&nbsp\;\nLeitung: Evelyn Gräff\nKurs-Nr. 232-05-902\n\n7 x
  Mi.\, 01.11. – 13.12.2023\n09.45 – 10.45 Uhr\n\n&nbsp\;\n\n&nbsp\;
CATEGORIES:Gesundheit &amp; Selbsterfahrung,November,Sport &amp; Bewegung
LOCATION:Frauenbildungszentrum\, Schöne Aussicht 24 \, Bad Homburg\, Hesse
 n\, 61348  \, Deutschland
X-APPLE-STRUCTURED-LOCATION;VALUE=URI;X-ADDRESS=Schöne Aussicht 24 \, Bad 
 Homburg\, Hessen\, 61348  \, Deutschland;X-APPLE-RADIUS=100;X-TITLE=Frauen
 bildungszentrum:geo:0,0
END:VEVENT
BEGIN:VTIMEZONE
TZID:Europe/Berlin
X-LIC-LOCATION:Europe/Berlin
BEGIN:STANDARD
DTSTART:20231029T020000
TZOFFSETFROM:+0200
TZOFFSETTO:+0100
TZNAME:CET
END:STANDARD
END:VTIMEZONE
END:VCALENDAR