BEGIN:VCALENDAR
VERSION:2.0
PRODID:-//wp-events-plugin.com//7.2.3.1//EN
BEGIN:VEVENT
UID:411@frauenbildungszentrum.de
DTSTART;TZID=Europe/Berlin:20240414T100000
DTEND;TZID=Europe/Berlin:20240414T140000
DTSTAMP:20240411T130052Z
URL:https://www.frauenbildungszentrum.de/events/apfelbluetenspaziergang
SUMMARY:Apfelblütenspaziergang -Abgesagt
DESCRIPTION:„Voll Blüten steht der Apfelbaum\, nicht jede wird zur Fruch
 t\, Sie schimmern hell wie Rosenschaum\, durch Blau und Wolkenflucht. Wie 
 Blüten gehen Gedanken auf\, hundert an jedem Tag. Lass blühen!“\n(Herm
 ann Hesse)\nWehrheim wird „das Apfeldorf am Limes“ genannt. Dem wollen
  wir auf einem Spaziergang mit unseren ganzen Sinnen nachspüren. Dazu geh
 en wir gemütlich\, untermalt mit Frühlings- und Apfelblütengedichten ru
 nd um Wehrheim.\nDie Wanderung findet bei jedem Wetter statt. Proviant bit
 te selbst mitbringen. Keine spezielle Kondition beim Wandern erforderlich.
 \n\nDieser Kurs wird für Frauen und Männer angeboten.\nDieser Kurs wird 
 in Kooperation mit der Katholischen Erwachsenenbildung\, Bildungswerk Hoch
 taunus angeboten.\nLeitung: Elisabeth Buddeus-Steiff\nSonntag\, 14. April 
 2024\n10.00 – 14.00 Uhr\nMindestteilnehmerinnenzahl: 7\n\n241-07-003\n\n
  \n 
LOCATION:Bahnhof Wehrheim\, Bahnhof Wehrheim\, 61273 Wehrheim\, Deutschland
X-APPLE-STRUCTURED-LOCATION;VALUE=URI;X-ADDRESS=Bahnhof Wehrheim\, 61273 We
 hrheim\, Deutschland;X-APPLE-RADIUS=100;X-TITLE=Bahnhof Wehrheim:geo:0,0
END:VEVENT
BEGIN:VTIMEZONE
TZID:Europe/Berlin
X-LIC-LOCATION:Europe/Berlin
BEGIN:DAYLIGHT
DTSTART:20240331T030000
TZOFFSETFROM:+0100
TZOFFSETTO:+0200
TZNAME:CEST
END:DAYLIGHT
END:VTIMEZONE
END:VCALENDAR