BEGIN:VCALENDAR
VERSION:2.0
PRODID:-//wp-events-plugin.com//7.2.3.1//EN
BEGIN:VEVENT
UID:163@frauenbildungszentrum.de
DTSTART;TZID=Europe/Berlin:20230716T100000
DTEND;TZID=Europe/Berlin:20230716T140000
DTSTAMP:20230712T101559Z
URL:https://www.frauenbildungszentrum.de/events/an-der-nidda-entlang
SUMMARY:An der Nidda entlang
DESCRIPTION:„Wandern ist eine Tätigkeit der Beine – und ein Zustand de
 r Seele.“\nBei dieser kleinen Wanderung werden wir größtenteils an der
  Nidda entlang eine Rundtour um Dortelweil gehen. Dabei wollen wir dem Fli
 eßen des Flusses und unseren eigenen Fließbewegungen im Leben nachspüre
 n.\nSchön wäre es\, wenn jede Teilnehmerin Offenheit für das Gespräch 
 miteinander und Lust am Wandern mitbringt.\nSpezielle Kondition für diese
  ca. 10 km lange Strecke ist nicht erforderlich. Startpunkt und Ende der W
 anderung ist der Bahnhof Bad Vilbel-Dortelweil. Bitte Proviant mitbringen.
  Die Wanderung findet auch bei leichtem Regen statt.\nLeitung: Elisabeth B
 uddeus-Steiff\nSonntag\, 16. Juli 2023\n10.00 – 14.00 Uhr\n\nMindestteil
 nehmerinnenzahl: 5\n231-07-004
CATEGORIES:Gesundheit &amp; Selbsterfahrung,Juli
LOCATION:Bahnhof Dortelweil\, Bahnstraße\, Bad Vilbel-Dortelweil\, 61118\,
  Deutschland
X-APPLE-STRUCTURED-LOCATION;VALUE=URI;X-ADDRESS=Bahnstraße\, Bad Vilbel-Do
 rtelweil\, 61118\, Deutschland;X-APPLE-RADIUS=100;X-TITLE=Bahnhof Dortelwe
 il:geo:0,0
END:VEVENT
BEGIN:VTIMEZONE
TZID:Europe/Berlin
X-LIC-LOCATION:Europe/Berlin
BEGIN:DAYLIGHT
DTSTART:20230326T030000
TZOFFSETFROM:+0100
TZOFFSETTO:+0200
TZNAME:CEST
END:DAYLIGHT
END:VTIMEZONE
END:VCALENDAR