BEGIN:VCALENDAR
VERSION:2.0
PRODID:-//wp-events-plugin.com//7.2.3.1//EN
BEGIN:VEVENT
UID:417@frauenbildungszentrum.de
DTSTART;TZID=Europe/Berlin:20241127T190000
DTEND;TZID=Europe/Berlin:20241127T210000
DTSTAMP:20240701T151634Z
URL:https://www.frauenbildungszentrum.de/events/aetherische-oele-in-der-er
 kaeltungszeit
SUMMARY:Ätherische Öle in der Erkältungszeit
DESCRIPTION:inkl. DIY Immunbooster Roll-on\nSchon seit den Zeiten der Ägyp
 ter ist die Wirkung ätherischer Öle bekannt. Diese aromatischen Extrakte
  aus Pflanzen wurden zur Raumbeduftung\, als Heilmittel und sogar als Grab
 beigabe genutzt. Heutzutage haben ätherische Öle ihren Platz in der Kosm
 etik\, Industrie und Medizin wiedergefunden. Ätherische Öle sind hochkon
 zentriert und besitzen eine beeindruckende Intensität und sind bei richti
 ger Anwendung für Kinder und Erwachsene gleichermaßen geeignet.\nWie ät
 herische Öle wirken\, hergestellt werden\, welche Öle es gibt und wie si
 e sich in unseren Alltag integrieren lassen\, erfahren Sie an diesem Abend
 . Zusätzlich stellen Sie sich unter Anleitung einen 10 ml Roll-On zur St
 ärkung Ihres Immunsystems her und erhalten eine kleine Übersicht mit ein
 fachen Rezepten\, z.B. für einen Hustensirup oder ein Spray bei Halsschme
 rzen.\n\nIn der Kursgebühr sind € 8\,-- für den Roll-on enthalten.\nLe
 itung: Ute Kolbe\nMittwoch\, 27. November 2024\n19.00 – 21.00 Uhr\n\n&nb
 sp\;\n\n&nbsp\;\n\n242-07-005\n 
CATEGORIES:Gesundheit &amp; Selbsterfahrung,November
LOCATION:Frauenbildungszentrum\, Schöne Aussicht 24 \, Bad Homburg\, Hesse
 n\, 61348  \, Deutschland
X-APPLE-STRUCTURED-LOCATION;VALUE=URI;X-ADDRESS=Schöne Aussicht 24 \, Bad 
 Homburg\, Hessen\, 61348  \, Deutschland;X-APPLE-RADIUS=100;X-TITLE=Frauen
 bildungszentrum:geo:0,0
END:VEVENT
BEGIN:VTIMEZONE
TZID:Europe/Berlin
X-LIC-LOCATION:Europe/Berlin
BEGIN:STANDARD
DTSTART:20241027T020000
TZOFFSETFROM:+0200
TZOFFSETTO:+0100
TZNAME:CET
END:STANDARD
END:VTIMEZONE
END:VCALENDAR