BEGIN:VCALENDAR
VERSION:2.0
PRODID:-//wp-events-plugin.com//7.2.3.1//EN
BEGIN:VEVENT
UID:393@frauenbildungszentrum.de
DTSTART;TZID=Europe/Berlin:20241222T190000
DTEND;TZID=Europe/Berlin:20241222T210000
DTSTAMP:20241128T104214Z
URL:https://www.frauenbildungszentrum.de/events/adventsgeschichten-und-ged
 ichte-im-ehemaligen-grand-hotel-in-bad-nauheim
SUMMARY:Adventsgeschichten im ehemaligen Grand Hotel in Bad Nauheim
DESCRIPTION:Michaele Scherenberg erzählt stimmungsvolle Adventsgeschichten
  und gibt Einblick in alte Bräuche zur Winterzeit.\nMit Blick auf den Kur
 park und die Jugendstil-Trinkkuranlage gibt es manches zu erfahren und vie
 les zu genießen. Serviert wird ein kleiner Imbiss mit Adventspunsch.\n\nL
 eitung: Michaele Scherenberg\nVeranstaltungsort: "GrandLiving" Ernst-Ludwi
 g-Ring 2\n61231 Bad Nauheim\nTreffpunkt: vor dem Eingang\n\nSonntag\, 22. 
 Dezember 2024\n19.00 – 21.00 Uhr\n\n&nbsp\;\n242-12-103
CATEGORIES:Dezember,Veranstaltungen
LOCATION:GrandLiving in Bad Nauheim\, Ernst-Ludwig-Ring 2\, Bad Nauheim\, 6
 1231\, Deutschland
X-APPLE-STRUCTURED-LOCATION;VALUE=URI;X-ADDRESS=Ernst-Ludwig-Ring 2\, Bad N
 auheim\, 61231\, Deutschland;X-APPLE-RADIUS=100;X-TITLE=GrandLiving in Bad
  Nauheim:geo:0,0
END:VEVENT
BEGIN:VTIMEZONE
TZID:Europe/Berlin
X-LIC-LOCATION:Europe/Berlin
BEGIN:STANDARD
DTSTART:20241027T020000
TZOFFSETFROM:+0200
TZOFFSETTO:+0100
TZNAME:CET
END:STANDARD
END:VTIMEZONE
END:VCALENDAR